BEGIN:VCALENDAR
VERSION:2.0
PRODID:-//Southeast Community Development Corporation - ECPv6.15.20//NONSGML v1.0//EN
CALSCALE:GREGORIAN
METHOD:PUBLISH
X-ORIGINAL-URL:https://www.scdcorp.org
X-WR-CALDESC:Events for Southeast Community Development Corporation
REFRESH-INTERVAL;VALUE=DURATION:PT1H
X-Robots-Tag:noindex
X-PUBLISHED-TTL:PT1H
BEGIN:VTIMEZONE
TZID:America/Los_Angeles
BEGIN:DAYLIGHT
TZOFFSETFROM:-0800
TZOFFSETTO:-0700
TZNAME:PDT
DTSTART:20240310T100000
END:DAYLIGHT
BEGIN:STANDARD
TZOFFSETFROM:-0700
TZOFFSETTO:-0800
TZNAME:PST
DTSTART:20241103T090000
END:STANDARD
BEGIN:DAYLIGHT
TZOFFSETFROM:-0800
TZOFFSETTO:-0700
TZNAME:PDT
DTSTART:20250309T100000
END:DAYLIGHT
BEGIN:STANDARD
TZOFFSETFROM:-0700
TZOFFSETTO:-0800
TZNAME:PST
DTSTART:20251102T090000
END:STANDARD
BEGIN:DAYLIGHT
TZOFFSETFROM:-0800
TZOFFSETTO:-0700
TZNAME:PDT
DTSTART:20260308T100000
END:DAYLIGHT
BEGIN:STANDARD
TZOFFSETFROM:-0700
TZOFFSETTO:-0800
TZNAME:PST
DTSTART:20261101T090000
END:STANDARD
END:VTIMEZONE
BEGIN:VEVENT
DTSTART;VALUE=DATE:20250707
DTEND;VALUE=DATE:20250718
DTSTAMP:20260423T235350
CREATED:20250604T185458Z
LAST-MODIFIED:20250604T190729Z
UID:19539-1751846400-1752796799@www.scdcorp.org
SUMMARY:Summer Tech Camp Session 2 - BG
DESCRIPTION:No camp on Fridays and the weekends
URL:https://www.scdcorp.org/event/2025-summer-tech-camp-session-2-bg/
LOCATION:Bell Gardens HQ\, 6423 Florence Place STE 103\, Bell Gardens\, CA\, 90201\, United States
ORGANIZER;CN="SCDC":MAILTO:info@scdcorp.org
END:VEVENT
BEGIN:VEVENT
DTSTART;VALUE=DATE:20250707
DTEND;VALUE=DATE:20250718
DTSTAMP:20260423T235350
CREATED:20250604T185638Z
LAST-MODIFIED:20250604T185638Z
UID:19541-1751846400-1752796799@www.scdcorp.org
SUMMARY:Summer Tech Camp Session 2 - BTC
DESCRIPTION:No camp on Fridays and the weekends
URL:https://www.scdcorp.org/event/2025-summer-tech-camp-session-2-btc/
LOCATION:Bell Tech Center\, 4357 Gage Avenue\, Bell\, CA\, 90201\, United States
ORGANIZER;CN="SCDC":MAILTO:info@scdcorp.org
END:VEVENT
BEGIN:VEVENT
DTSTART;TZID=America/Los_Angeles:20250719T090000
DTEND;TZID=America/Los_Angeles:20250719T140000
DTSTAMP:20260423T235350
CREATED:20250602T215540Z
LAST-MODIFIED:20250716T165117Z
UID:19531-1752915600-1752933600@www.scdcorp.org
SUMMARY:ARRL Field Day: Ham Radio Workshop & Demonstration
DESCRIPTION:Curious about how people talk across the world without cell phones or the internet? \nJoin us for a fun and interactive Ham Radio Workshop and Demonstration during ARRL Field Day! \nThis event will show you how amateur (ham) radio works\, why it’s important in emergencies\, and how you can get started. You’ll get to see real equipment\, talk to other radio operators\, and even try making a contact yourself. No experience needed—just bring your curiosity! \nSign Up Now
URL:https://www.scdcorp.org/event/2025-arrl-field-day-ham-radio-workshop-demonstration/
LOCATION:Bell Tech Center\, 4357 Gage Avenue\, Bell\, CA\, 90201\, United States
CATEGORIES:Workshops
END:VEVENT
BEGIN:VEVENT
DTSTART;VALUE=DATE:20250721
DTEND;VALUE=DATE:20250801
DTSTAMP:20260423T235350
CREATED:20250604T185935Z
LAST-MODIFIED:20250604T190445Z
UID:19543-1753056000-1754006399@www.scdcorp.org
SUMMARY:Summer Tech Camp Session 3 - BG
DESCRIPTION:No camp on Fridays and Weekends!
URL:https://www.scdcorp.org/event/2025-summer-tech-camp-session-3-bg/
LOCATION:Bell Gardens HQ\, 6423 Florence Place STE 103\, Bell Gardens\, CA\, 90201\, United States
ORGANIZER;CN="SCDC":MAILTO:info@scdcorp.org
END:VEVENT
BEGIN:VEVENT
DTSTART;VALUE=DATE:20250721
DTEND;VALUE=DATE:20250801
DTSTAMP:20260423T235350
CREATED:20250604T190318Z
LAST-MODIFIED:20250604T190832Z
UID:19545-1753056000-1754006399@www.scdcorp.org
SUMMARY:Summer Tech Camp Session 3 - BTC
DESCRIPTION:No camp on Fridays and Weekends
URL:https://www.scdcorp.org/event/2025-summer-tech-camp-session-3-btc/
LOCATION:Bell Tech Center\, 4357 Gage Avenue\, Bell\, CA\, 90201\, United States
ORGANIZER;CN="SCDC":MAILTO:info@scdcorp.org
END:VEVENT
END:VCALENDAR