BEGIN:VCALENDAR
VERSION:2.0
PRODID:-//Southeast Community Development Corporation - ECPv6.15.20//NONSGML v1.0//EN
CALSCALE:GREGORIAN
METHOD:PUBLISH
X-ORIGINAL-URL:https://www.scdcorp.org
X-WR-CALDESC:Events for Southeast Community Development Corporation
REFRESH-INTERVAL;VALUE=DURATION:PT1H
X-Robots-Tag:noindex
X-PUBLISHED-TTL:PT1H
BEGIN:VTIMEZONE
TZID:America/Los_Angeles
BEGIN:DAYLIGHT
TZOFFSETFROM:-0800
TZOFFSETTO:-0700
TZNAME:PDT
DTSTART:20250309T100000
END:DAYLIGHT
BEGIN:STANDARD
TZOFFSETFROM:-0700
TZOFFSETTO:-0800
TZNAME:PST
DTSTART:20251102T090000
END:STANDARD
BEGIN:DAYLIGHT
TZOFFSETFROM:-0800
TZOFFSETTO:-0700
TZNAME:PDT
DTSTART:20260308T100000
END:DAYLIGHT
BEGIN:STANDARD
TZOFFSETFROM:-0700
TZOFFSETTO:-0800
TZNAME:PST
DTSTART:20261101T090000
END:STANDARD
BEGIN:DAYLIGHT
TZOFFSETFROM:-0800
TZOFFSETTO:-0700
TZNAME:PDT
DTSTART:20270314T100000
END:DAYLIGHT
BEGIN:STANDARD
TZOFFSETFROM:-0700
TZOFFSETTO:-0800
TZNAME:PST
DTSTART:20271107T090000
END:STANDARD
END:VTIMEZONE
BEGIN:VEVENT
DTSTART;TZID=America/Los_Angeles:20260307T100000
DTEND;TZID=America/Los_Angeles:20260307T140000
DTSTAMP:20260423T123609
CREATED:20260228T004439Z
LAST-MODIFIED:20260228T004439Z
UID:19941-1772877600-1772892000@www.scdcorp.org
SUMMARY:Electronics Radio Academy – Radio Building Project
DESCRIPTION:*MUST HAVE ATTENDED INTRO TO ELECTRONICS* \nTake apart the mystery behind radios—literally! In this workshop\, you’ll explore the components inside an FM radio and assemble your very own working model. Learn how radios receive and convert signals into sound\, and experience the thrill of hearing stations you built the tech to receive. \nSIGN UP NOW↗
URL:https://www.scdcorp.org/event/electronics-radio-academy-03-07-2026/
LOCATION:Bell Tech Center\, 4357 Gage Avenue\, Bell\, CA\, 90201\, United States
CATEGORIES:Workshops
END:VEVENT
BEGIN:VEVENT
DTSTART;TZID=America/Los_Angeles:20260314T100000
DTEND;TZID=America/Los_Angeles:20260314T140000
DTSTAMP:20260423T123609
CREATED:20260228T004805Z
LAST-MODIFIED:20260228T004805Z
UID:19943-1773482400-1773496800@www.scdcorp.org
SUMMARY:Electronics Radio Academy – Arduino Basics
DESCRIPTION:Start with the fundamentals of Arduino hardware. You’ll learn what a microcontroller is\, how to wire up circuits on a breadboard\, and how to upload your first simple code using the Arduino IDE. \nProjects may include blinking LEDs\, basic buttons\, and simple sensors.
URL:https://www.scdcorp.org/event/electronics-radio-academy-03-14-2026/
LOCATION:Bell Tech Center\, 4357 Gage Avenue\, Bell\, CA\, 90201\, United States
CATEGORIES:Workshops
END:VEVENT
BEGIN:VEVENT
DTSTART;TZID=America/Los_Angeles:20260321T100000
DTEND;TZID=America/Los_Angeles:20260321T140000
DTSTAMP:20260423T123609
CREATED:20260228T005015Z
LAST-MODIFIED:20260228T005015Z
UID:19945-1774087200-1774101600@www.scdcorp.org
SUMMARY:Electronics Radio Academy – Arduino Intermediate
DESCRIPTION:This session takes it up a notch. Learn how to connect and program motors and sensors like motion detectors or temperature sensors.  \nYou’ll combine code and circuitry to make a small interactive system—like a fan that turns on with a clap or a sensor that lights up LEDs.
URL:https://www.scdcorp.org/event/electronics-radio-academy-03-21-2026/
LOCATION:Bell Tech Center\, 4357 Gage Avenue\, Bell\, CA\, 90201\, United States
CATEGORIES:Workshops
END:VEVENT
END:VCALENDAR