BEGIN:VCALENDAR
VERSION:2.0
PRODID:-//Southeast Community Development Corporation - ECPv6.15.20//NONSGML v1.0//EN
CALSCALE:GREGORIAN
METHOD:PUBLISH
X-WR-CALNAME:Southeast Community Development Corporation
X-ORIGINAL-URL:https://www.scdcorp.org
X-WR-CALDESC:Events for Southeast Community Development Corporation
REFRESH-INTERVAL;VALUE=DURATION:PT1H
X-Robots-Tag:noindex
X-PUBLISHED-TTL:PT1H
BEGIN:VTIMEZONE
TZID:America/Los_Angeles
BEGIN:DAYLIGHT
TZOFFSETFROM:-0800
TZOFFSETTO:-0700
TZNAME:PDT
DTSTART:20250309T100000
END:DAYLIGHT
BEGIN:STANDARD
TZOFFSETFROM:-0700
TZOFFSETTO:-0800
TZNAME:PST
DTSTART:20251102T090000
END:STANDARD
BEGIN:DAYLIGHT
TZOFFSETFROM:-0800
TZOFFSETTO:-0700
TZNAME:PDT
DTSTART:20260308T100000
END:DAYLIGHT
BEGIN:STANDARD
TZOFFSETFROM:-0700
TZOFFSETTO:-0800
TZNAME:PST
DTSTART:20261101T090000
END:STANDARD
BEGIN:DAYLIGHT
TZOFFSETFROM:-0800
TZOFFSETTO:-0700
TZNAME:PDT
DTSTART:20270314T100000
END:DAYLIGHT
BEGIN:STANDARD
TZOFFSETFROM:-0700
TZOFFSETTO:-0800
TZNAME:PST
DTSTART:20271107T090000
END:STANDARD
END:VTIMEZONE
BEGIN:VEVENT
DTSTART;TZID=America/Los_Angeles:20260407T163000
DTEND;TZID=America/Los_Angeles:20260407T173000
DTSTAMP:20260423T131520
CREATED:20260227T203740Z
LAST-MODIFIED:20260227T210052Z
UID:19926-1775579400-1775583000@www.scdcorp.org
SUMMARY:Young Storytellers Workshop - Session 1
DESCRIPTION:Ever wondered how movies\, videos\, and games come to life? Every great project begins with a story\, and with Young Storytellers\, your child will create their very own. \nIn three engaging one-hour workshops\, students collaborate with fellow young creators and professional Teaching Artists to develop characters\, build imaginative worlds\, and craft an original story from start to finish. They will also create a storyboard poster to take home. \nWhether it is an epic sci-fi adventure or a magical fantasy realm\, this program helps bring big ideas to life. \nNo experience needed\, just creativity and curiosity. Designed for students in 5th to 7th grade. \nSign Up Now
URL:https://www.scdcorp.org/event/young-storytellers-workshop-04-07-26/
LOCATION:Bell Tech Center\, 4357 Gage Avenue\, Bell\, CA\, 90201\, United States
CATEGORIES:Workshops
ORGANIZER;CN="SCDC":MAILTO:info@scdcorp.org
END:VEVENT
END:VCALENDAR