BEGIN:VCALENDAR
VERSION:2.0
PRODID:-//Southeast Community Development Corporation - ECPv6.15.20//NONSGML v1.0//EN
CALSCALE:GREGORIAN
METHOD:PUBLISH
X-WR-CALNAME:Southeast Community Development Corporation
X-ORIGINAL-URL:https://www.scdcorp.org
X-WR-CALDESC:Events for Southeast Community Development Corporation
REFRESH-INTERVAL;VALUE=DURATION:PT1H
X-Robots-Tag:noindex
X-PUBLISHED-TTL:PT1H
BEGIN:VTIMEZONE
TZID:America/Los_Angeles
BEGIN:DAYLIGHT
TZOFFSETFROM:-0800
TZOFFSETTO:-0700
TZNAME:PDT
DTSTART:20250309T100000
END:DAYLIGHT
BEGIN:STANDARD
TZOFFSETFROM:-0700
TZOFFSETTO:-0800
TZNAME:PST
DTSTART:20251102T090000
END:STANDARD
BEGIN:DAYLIGHT
TZOFFSETFROM:-0800
TZOFFSETTO:-0700
TZNAME:PDT
DTSTART:20260308T100000
END:DAYLIGHT
BEGIN:STANDARD
TZOFFSETFROM:-0700
TZOFFSETTO:-0800
TZNAME:PST
DTSTART:20261101T090000
END:STANDARD
BEGIN:DAYLIGHT
TZOFFSETFROM:-0800
TZOFFSETTO:-0700
TZNAME:PDT
DTSTART:20270314T100000
END:DAYLIGHT
BEGIN:STANDARD
TZOFFSETFROM:-0700
TZOFFSETTO:-0800
TZNAME:PST
DTSTART:20271107T090000
END:STANDARD
END:VTIMEZONE
BEGIN:VEVENT
DTSTART;TZID=America/Los_Angeles:20260207T100000
DTEND;TZID=America/Los_Angeles:20260207T140000
DTSTAMP:20260423T102829
CREATED:20260127T200549Z
LAST-MODIFIED:20260127T203124Z
UID:19854-1770458400-1770472800@www.scdcorp.org
SUMMARY:Junior Radio Academy - Advance Electronics Projects
DESCRIPTION:It’s the grand finale of our Junior Radio Academy! \nTime to put all your skills to work—learn the parts that make a radio tick and build your very own FM radio from scratch. Tinker\, experiment\, and watch your project come alive with sound! This is your chance to shine and have a blast while finishing strong. \n✨ Sign up now and take home your own FM radio!
URL:https://www.scdcorp.org/event/junior-radio-academy-2-7-2026/
LOCATION:Bell Tech Center\, 4357 Gage Avenue\, Bell\, CA\, 90201\, United States
CATEGORIES:Workshops
END:VEVENT
BEGIN:VEVENT
DTSTART;TZID=America/Los_Angeles:20260214T090000
DTEND;TZID=America/Los_Angeles:20260214T110000
DTSTAMP:20260423T102829
CREATED:20260127T202725Z
LAST-MODIFIED:20260127T205832Z
UID:19858-1771059600-1771066800@www.scdcorp.org
SUMMARY:Adult Digital Literacy - Basic Computer Skills Day 1
DESCRIPTION:[TAUGHT IN ENGLISH & SPANISH] \nThis course is perfect for adults with little or no computer experience! You’ll learn how to turn on a computer\, use a mouse\, type\, search the web\, and manage your online safety and privacy. We’ll also cover downloading apps\, creating online accounts\, checking bank balances\, and connecting on social media. Your smartphone will be part of the hands-on learning experience. \nSign up now—or enroll someone you know—and help build digital confidence today!
URL:https://www.scdcorp.org/event/hacla-adult-digital-literacy-2-14-2026/
LOCATION:Imperial Courts\, 2257 East 115th Street\, Los Angeles\, CA\, 90059\, United States
CATEGORIES:Workshops
ORGANIZER;CN="SCDC":MAILTO:info@scdcorp.org
END:VEVENT
BEGIN:VEVENT
DTSTART;TZID=America/Los_Angeles:20260214T113000
DTEND;TZID=America/Los_Angeles:20260214T133000
DTSTAMP:20260423T102829
CREATED:20260127T204947Z
LAST-MODIFIED:20260127T205836Z
UID:19868-1771068600-1771075800@www.scdcorp.org
SUMMARY:Adult Digital Literacy - The Entrepreneur in Every Parent Day 1
DESCRIPTION:[TAUGHT IN ENGLISH & SPANISH] \nParents will learn how to create a business plan\, research competitors\, and apply basic marketing strategies. The course also covers social media\, resources from the Small Business Administration\, and financial projections. Participants will learn how to build practical skills similar to those taught community college courses\, such as marketing\, bookkeeping\, and accounting. \nSign up now—or enroll someone you know—and start growing your business skills today!
URL:https://www.scdcorp.org/event/hacla-adult-digital-literacy-2-14-2026-2/
LOCATION:Nickerson Gardens\, 1450 E 114th Street BLDG #5\, Los Angeles\, CA\, 90059\, United States
CATEGORIES:Workshops
END:VEVENT
BEGIN:VEVENT
DTSTART;TZID=America/Los_Angeles:20260218T100000
DTEND;TZID=America/Los_Angeles:20260218T110000
DTSTAMP:20260423T102829
CREATED:20260127T184825Z
LAST-MODIFIED:20260127T184826Z
UID:19822-1771408800-1771412400@www.scdcorp.org
SUMMARY:Detecta y Defiende: Evita Fraudes y Estafas con Chase
DESCRIPTION:Te invitamos a un taller sin costo! \nEn este taller\, aprenderás cómo mantenerte organizado puede ayudarte a estar seguro\, cómo identificar estafas comunes y protegerte\, y qué hacer si tú o un ser querido son afectados por fraude o robo de \nEl espacio es limitado. Por favor\, confirma tu asistencia antes del 18 de febrero! \n¡Regístrate ahora!
URL:https://www.scdcorp.org/event/detecta-y-defiende-evita-fraudes-y-estafas-con-chase/
LOCATION:Bell Tech Center\, 4357 Gage Avenue\, Bell\, CA\, 90201\, United States
CATEGORIES:Workshops
END:VEVENT
BEGIN:VEVENT
DTSTART;TZID=America/Los_Angeles:20260221T090000
DTEND;TZID=America/Los_Angeles:20260221T110000
DTSTAMP:20260423T102829
CREATED:20260127T203007Z
LAST-MODIFIED:20260127T205640Z
UID:19863-1771664400-1771671600@www.scdcorp.org
SUMMARY:Adult Digital Literacy - Basic Computer Skills Day 2
DESCRIPTION:TAUGHT IN ENGLISH & SPANISH \nThis course is perfect for adults with little or no computer experience! You’ll learn how to turn on a computer\, use a mouse\, type\, search the web\, and manage your online safety and privacy. We’ll also cover downloading apps\, creating online accounts\, checking bank balances\, and connecting on social media. Your smartphone will be part of the hands-on learning experience. \nSign up now—or enroll someone you know—and help build digital confidence today!
URL:https://www.scdcorp.org/event/hacla-adult-digital-literacy-2-21-2026/
LOCATION:Imperial Courts\, 2257 East 115th Street\, Los Angeles\, CA\, 90059\, United States
CATEGORIES:Workshops
ORGANIZER;CN="SCDC":MAILTO:info@scdcorp.org
END:VEVENT
BEGIN:VEVENT
DTSTART;TZID=America/Los_Angeles:20260221T100000
DTEND;TZID=America/Los_Angeles:20260221T140000
DTSTAMP:20260423T102829
CREATED:20260209T235700Z
LAST-MODIFIED:20260209T235701Z
UID:19886-1771668000-1771682400@www.scdcorp.org
SUMMARY:Scout's Radio Merit Badge Workshop
DESCRIPTION:Ready to sound like a pro on the airwaves? \nIn this interactive merit badge workshop\, Scouts will learn how to use hand-held two-way radios to communicate clearly\, confidently\, and correctly. We’ll practice real radio calls\, learn cool radio lingo\, and discover how voices travel through the air—no Wi-Fi required! \nSpecial Guest Alert!\nA popular Ham Radio YouTuber is joining us for the day! He’ll share awesome stories from the ham radio world\, show off some gear\, and explain how amateur radio helps during emergencies. \nSecure your spot now!
URL:https://www.scdcorp.org/event/scouts-radio-merit-badge-workshop/
LOCATION:Bell Tech Center\, 4357 Gage Avenue\, Bell\, CA\, 90201\, United States
CATEGORIES:Workshops
END:VEVENT
BEGIN:VEVENT
DTSTART;TZID=America/Los_Angeles:20260221T113000
DTEND;TZID=America/Los_Angeles:20260221T133000
DTSTAMP:20260423T102829
CREATED:20260127T205509Z
LAST-MODIFIED:20260127T205930Z
UID:19872-1771673400-1771680600@www.scdcorp.org
SUMMARY:Adult Digital Literacy – The Entrepreneur in Every Parent Day 2
DESCRIPTION:[TAUGHT IN ENGLISH & SPANISH] \nParents will learn how to create a business plan\, research competitors\, and apply basic marketing strategies. The course also covers social media\, resources from the Small Business Administration\, and financial projections. Participants will learn how to build practical skills similar to those taught community college courses\, such as marketing\, bookkeeping\, and accounting. \nSign up now—or enroll someone you know—and start growing your business skills today!
URL:https://www.scdcorp.org/event/hacla-adult-digital-literacy-2-21-2026-2/
LOCATION:Nickerson Gardens\, 1450 E 114th Street BLDG #5\, Los Angeles\, CA\, 90059\, United States
CATEGORIES:Workshops
ORGANIZER;CN="SCDC":MAILTO:info@scdcorp.org
END:VEVENT
BEGIN:VEVENT
DTSTART;TZID=America/Los_Angeles:20260228T100000
DTEND;TZID=America/Los_Angeles:20260228T140000
DTSTAMP:20260423T102829
CREATED:20260228T004039Z
LAST-MODIFIED:20260228T004039Z
UID:19939-1772272800-1772287200@www.scdcorp.org
SUMMARY:Electronics Radio Academy – Introduction to Electronics
DESCRIPTION:Start your journey into electronics by learning how electricity flows and what components like resistors\, capacitors\, and LEDs actually do. You’ll also get hands-on experience with using tools such as multimeters and soldering irons. By the end of the session\, you’ll create a basic electronic project that you can take home. \nSign Up Now
URL:https://www.scdcorp.org/event/electronics-radio-academy-02-28-2026/
LOCATION:Bell Tech Center\, 4357 Gage Avenue\, Bell\, CA\, 90201\, United States
CATEGORIES:Workshops
END:VEVENT
END:VCALENDAR