BEGIN:VCALENDAR
VERSION:2.0
PRODID:-//Southeast Community Development Corporation - ECPv6.15.20//NONSGML v1.0//EN
CALSCALE:GREGORIAN
METHOD:PUBLISH
X-WR-CALNAME:Southeast Community Development Corporation
X-ORIGINAL-URL:https://www.scdcorp.org
X-WR-CALDESC:Events for Southeast Community Development Corporation
REFRESH-INTERVAL;VALUE=DURATION:PT1H
X-Robots-Tag:noindex
X-PUBLISHED-TTL:PT1H
BEGIN:VTIMEZONE
TZID:America/Los_Angeles
BEGIN:DAYLIGHT
TZOFFSETFROM:-0800
TZOFFSETTO:-0700
TZNAME:PDT
DTSTART:20240310T100000
END:DAYLIGHT
BEGIN:STANDARD
TZOFFSETFROM:-0700
TZOFFSETTO:-0800
TZNAME:PST
DTSTART:20241103T090000
END:STANDARD
BEGIN:DAYLIGHT
TZOFFSETFROM:-0800
TZOFFSETTO:-0700
TZNAME:PDT
DTSTART:20250309T100000
END:DAYLIGHT
BEGIN:STANDARD
TZOFFSETFROM:-0700
TZOFFSETTO:-0800
TZNAME:PST
DTSTART:20251102T090000
END:STANDARD
BEGIN:DAYLIGHT
TZOFFSETFROM:-0800
TZOFFSETTO:-0700
TZNAME:PDT
DTSTART:20260308T100000
END:DAYLIGHT
BEGIN:STANDARD
TZOFFSETFROM:-0700
TZOFFSETTO:-0800
TZNAME:PST
DTSTART:20261101T090000
END:STANDARD
END:VTIMEZONE
BEGIN:VEVENT
DTSTART;TZID=America/Los_Angeles:20251025T180000
DTEND;TZID=America/Los_Angeles:20251025T200000
DTSTAMP:20260423T154011
CREATED:20251017T205344Z
LAST-MODIFIED:20251017T205513Z
UID:19673-1761415200-1761422400@www.scdcorp.org
SUMMARY:2025 Halloween Carnival
DESCRIPTION:We’re teaming up with the City of Bell for a spooky celebration! \nCome join the Halloween Carnival on Saturday\, October 25th\, from 6 PM to 9 PM at the Bell Community Center for a night packed with fun and frights! Enjoy haunted rooms\, exciting carnival games\, delicious food vendors\, loads of candy\, and much more. \nDress to impress—our costume contest is open to all ages\, so don’t miss your chance to show off your spooky style!
URL:https://www.scdcorp.org/event/2025-halloween-carnival/
LOCATION:Bell Community Center\, 6250 Pine Ave\, Bell\, CA\, 90201\, United States
CATEGORIES:Community Event
END:VEVENT
BEGIN:VEVENT
DTSTART;TZID=America/Los_Angeles:20251025T180000
DTEND;TZID=America/Los_Angeles:20251025T203000
DTSTAMP:20260423T154011
CREATED:20251017T205743Z
LAST-MODIFIED:20251017T205758Z
UID:19682-1761415200-1761424200@www.scdcorp.org
SUMMARY:LEGO Make & Take: Halloween Fundraiser
DESCRIPTION:Calling all young builders ages 6–12! \nJoin us during our Halloween Carnival with the City of Bell for a fun LEGO Make & Take activity where creativity knows no limits. Kids will get the chance to build their very own LEGO creation — and the best part? They get to take it home! \nWhether they build a spaceship\, a tower\, or something totally out-of-the-box\, this event is perfect for young imaginations to run wild. All materials will be provided — just bring your creativity and excitement! \nDon’t miss out on the fun — first come\, first served!
URL:https://www.scdcorp.org/event/lego-make-take-halloween-edition/
LOCATION:Bell Community Center\, 6250 Pine Ave\, Bell\, CA\, 90201\, United States
CATEGORIES:Community Event
ORGANIZER;CN="CYBER-NAUTS Robotics Team":MAILTO:cybernauts@scdcorp.org
END:VEVENT
BEGIN:VEVENT
DTSTART;TZID=America/Los_Angeles:20251029T160000
DTEND;TZID=America/Los_Angeles:20251029T170000
DTSTAMP:20260423T154011
CREATED:20251029T194432Z
LAST-MODIFIED:20251029T194510Z
UID:19693-1761753600-1761757200@www.scdcorp.org
SUMMARY:Lights On After-School Press Conference
DESCRIPTION:Join us on October 29\, 2025\, for the Lights On Afterschool Press Conference from 4:00-4:50 PM at NewStart Housing (3355 E Gage Ave\, Huntington Park\, CA 90255). \nWe’ll celebrate the impact of after-school programs on student success and community safety; with inspiring youth performances\, student speakers\, and remarks from local leaders. \nYour support shows decision-makers that after-school programs matter. We hope to see you there! \nPlease RSVP here: https://form.jotform.com/252946876008064
URL:https://www.scdcorp.org/event/2025-lights-on-after-school-press-conference/
LOCATION:Newstart Event Center\, 3355 E Gage Ave\, Huntington Park\, CA\, 90255\, United States
ORGANIZER;CN="SCDC":MAILTO:info@scdcorp.org
END:VEVENT
END:VCALENDAR