BEGIN:VCALENDAR
VERSION:2.0
PRODID:-//Southeast Community Development Corporation - ECPv6.15.20//NONSGML v1.0//EN
CALSCALE:GREGORIAN
METHOD:PUBLISH
X-ORIGINAL-URL:https://www.scdcorp.org
X-WR-CALDESC:Events for Southeast Community Development Corporation
REFRESH-INTERVAL;VALUE=DURATION:PT1H
X-Robots-Tag:noindex
X-PUBLISHED-TTL:PT1H
BEGIN:VTIMEZONE
TZID:America/Los_Angeles
BEGIN:DAYLIGHT
TZOFFSETFROM:-0800
TZOFFSETTO:-0700
TZNAME:PDT
DTSTART:20240310T100000
END:DAYLIGHT
BEGIN:STANDARD
TZOFFSETFROM:-0700
TZOFFSETTO:-0800
TZNAME:PST
DTSTART:20241103T090000
END:STANDARD
BEGIN:DAYLIGHT
TZOFFSETFROM:-0800
TZOFFSETTO:-0700
TZNAME:PDT
DTSTART:20250309T100000
END:DAYLIGHT
BEGIN:STANDARD
TZOFFSETFROM:-0700
TZOFFSETTO:-0800
TZNAME:PST
DTSTART:20251102T090000
END:STANDARD
BEGIN:DAYLIGHT
TZOFFSETFROM:-0800
TZOFFSETTO:-0700
TZNAME:PDT
DTSTART:20260308T100000
END:DAYLIGHT
BEGIN:STANDARD
TZOFFSETFROM:-0700
TZOFFSETTO:-0800
TZNAME:PST
DTSTART:20261101T090000
END:STANDARD
END:VTIMEZONE
BEGIN:VEVENT
DTSTART;TZID=America/Los_Angeles:20250301T090000
DTEND;TZID=America/Los_Angeles:20250301T230000
DTSTAMP:20260424T011741
CREATED:20250228T023600Z
LAST-MODIFIED:20250228T023600Z
UID:19242-1740819600-1740870000@www.scdcorp.org
SUMMARY:2025 FAFSA Application Workshop #2
DESCRIPTION:Join us alongside the SELA Arts Center for our second FREE FAFSA Workshop for 2025! \nWe’ll be going over the basics for FAFSA and help you file. \nBoth parents AND students will need:\n– SSN/ITIN\n– 2023 Taxes\n– Access to an email address\nRSVP Now!
URL:https://www.scdcorp.org/event/2025-fafsa-application-workshop-2/
LOCATION:Bell Tech Center\, 4357 Gage Avenue\, Bell\, CA\, 90201\, United States
ORGANIZER;CN="SCDC":MAILTO:info@scdcorp.org
END:VEVENT
BEGIN:VEVENT
DTSTART;TZID=America/Los_Angeles:20250306T120000
DTEND;TZID=America/Los_Angeles:20250306T130000
DTSTAMP:20260424T011741
CREATED:20250214T194043Z
LAST-MODIFIED:20250214T194106Z
UID:18947-1741262400-1741266000@www.scdcorp.org
SUMMARY:Metro Rail to River Meeting #2 (Virtual)
DESCRIPTION:Metro has a plan to make it easier to get around LA County\, including streets that are safer for everyone. Metro wants your input to improve bicycle and pedestrian connections between the A Line Slauson Station and the LA River. \nJoin us at a community meeting to receive project updates\, including improvements being planned along Randolph St\, in collaboration with the local jurisdictions and the Randolph Corridor Active Transportation project\, as well as the opportunity to ask questions and provide feedback. \nThe same information will be presented at each meeting!  \nClick here to join via Zoom! \nFor complete project information\, please visit www.metro.net/projects/r2rb.
URL:https://www.scdcorp.org/event/metro-rail-to-river-meeting-2-virtual/
LOCATION:Online
CATEGORIES:Community Event
END:VEVENT
BEGIN:VEVENT
DTSTART;TZID=America/Los_Angeles:20250308T100000
DTEND;TZID=America/Los_Angeles:20250308T113000
DTSTAMP:20260424T011741
CREATED:20250214T194254Z
LAST-MODIFIED:20250303T210307Z
UID:18950-1741428000-1741433400@www.scdcorp.org
SUMMARY:Metro Rail to River Meeting #3 (In-Person)
DESCRIPTION:Metro has a plan to make it easier to get around LA County\, including streets that are safer for everyone. Metro wants your input to improve bicycle and pedestrian connections between the A Line Slauson Station and the LA River. \nJoin us at a community meeting to receive project updates\, including improvements being planned along Randolph St\, in collaboration with the local jurisdictions and the Randolph Corridor Active Transportation project\, as well as the opportunity to ask questions and provide feedback. \nThis meeting will have a Kids’ Corner with fun activities. \nThe same information will be presented at each meeting. Free onsite parking and Spanish interpreters will be available. \nFor complete project information\, please visit www.metro.net/projects/r2rb.
URL:https://www.scdcorp.org/event/metro-rail-to-river-meeting-3-in-person/
LOCATION:Bell Community Center\, 6250 Pine Ave\, Bell\, CA\, 90201\, United States
CATEGORIES:Community Event
END:VEVENT
BEGIN:VEVENT
DTSTART;TZID=America/Los_Angeles:20250322T090000
DTEND;TZID=America/Los_Angeles:20250322T140000
DTSTAMP:20260424T011741
CREATED:20250303T210208Z
LAST-MODIFIED:20250303T210423Z
UID:19248-1742634000-1742652000@www.scdcorp.org
SUMMARY:Ham Radio Workshop and Demonstration
DESCRIPTION:This session immerses you in the world of ham radio\, exploring its functions\, with visits from police departments to discuss emergency response. \nGet ready to connect with people from around the globe over the airwaves! \nSIGN UP NOW↗
URL:https://www.scdcorp.org/event/ham-radio-workshop-and-demonstration-3-22-2025/
LOCATION:Bell Tech Center\, 4357 Gage Avenue\, Bell\, CA\, 90201\, United States
CATEGORIES:Workshops
ORGANIZER;CN="SCDC":MAILTO:info@scdcorp.org
END:VEVENT
END:VCALENDAR