BEGIN:VCALENDAR
VERSION:2.0
PRODID:-//Southeast Community Development Corporation - ECPv6.15.20//NONSGML v1.0//EN
CALSCALE:GREGORIAN
METHOD:PUBLISH
X-WR-CALNAME:Southeast Community Development Corporation
X-ORIGINAL-URL:https://www.scdcorp.org
X-WR-CALDESC:Events for Southeast Community Development Corporation
REFRESH-INTERVAL;VALUE=DURATION:PT1H
X-Robots-Tag:noindex
X-PUBLISHED-TTL:PT1H
BEGIN:VTIMEZONE
TZID:America/Los_Angeles
BEGIN:DAYLIGHT
TZOFFSETFROM:-0800
TZOFFSETTO:-0700
TZNAME:PDT
DTSTART:20230312T100000
END:DAYLIGHT
BEGIN:STANDARD
TZOFFSETFROM:-0700
TZOFFSETTO:-0800
TZNAME:PST
DTSTART:20231105T090000
END:STANDARD
BEGIN:DAYLIGHT
TZOFFSETFROM:-0800
TZOFFSETTO:-0700
TZNAME:PDT
DTSTART:20240310T100000
END:DAYLIGHT
BEGIN:STANDARD
TZOFFSETFROM:-0700
TZOFFSETTO:-0800
TZNAME:PST
DTSTART:20241103T090000
END:STANDARD
BEGIN:DAYLIGHT
TZOFFSETFROM:-0800
TZOFFSETTO:-0700
TZNAME:PDT
DTSTART:20250309T100000
END:DAYLIGHT
BEGIN:STANDARD
TZOFFSETFROM:-0700
TZOFFSETTO:-0800
TZNAME:PST
DTSTART:20251102T090000
END:STANDARD
END:VTIMEZONE
BEGIN:VEVENT
DTSTART;TZID=America/Los_Angeles:20240601T110000
DTEND;TZID=America/Los_Angeles:20240601T140000
DTSTAMP:20260424T142135
CREATED:20240522T221302Z
LAST-MODIFIED:20240522T221425Z
UID:9788-1717239600-1717250400@www.scdcorp.org
SUMMARY:SELA Send Off
DESCRIPTION:🎓 Sending off our incredible seniors with a bright future ahead! \nTo the Class of 2028\, your journey awaits! 🌟 \nDon’t forget to register and embark on your next adventure! \nRegister Now
URL:https://www.scdcorp.org/event/sela-send-off/
LOCATION:Bell Community Center\, 6250 Pine Ave\, Bell\, CA\, 90201\, United States
CATEGORIES:Community Event
ORGANIZER;CN="SCDC":MAILTO:info@scdcorp.org
END:VEVENT
BEGIN:VEVENT
DTSTART;TZID=America/Los_Angeles:20240605T160000
DTEND;TZID=America/Los_Angeles:20240605T173000
DTSTAMP:20260424T142135
CREATED:20240430T203033Z
LAST-MODIFIED:20240605T011748Z
UID:9728-1717603200-1717608600@www.scdcorp.org
SUMMARY:Intro to Banking Basics Workshop (Ages: 17-25)
DESCRIPTION:Come join us for an interactive session where we break down the basics of banking and help you navigate the world of finance with confidence! Food and drinks will be provided. \n\n\nPerfect for future and current college students! \n\n\nSign up now!
URL:https://www.scdcorp.org/event/intro-to-banking-basics-workshop-06-05-2024/
LOCATION:Bell Tech Center\, 4357 Gage Avenue\, Bell\, CA\, 90201\, United States
CATEGORIES:Workshops
ORGANIZER;CN="SCDC":MAILTO:info@scdcorp.org
END:VEVENT
BEGIN:VEVENT
DTSTART;TZID=America/Los_Angeles:20240615T090000
DTEND;TZID=America/Los_Angeles:20240615T140000
DTSTAMP:20260424T142135
CREATED:20240422T175244Z
LAST-MODIFIED:20240422T175244Z
UID:9654-1718442000-1718460000@www.scdcorp.org
SUMMARY:Intro to HAM Radio Workshop
DESCRIPTION:This session immerses you in the world of ham radio\, exploring its functions\, with visits from police departments to discuss emergency response. \nGet ready to connect with people from around the globe over the airwaves!
URL:https://www.scdcorp.org/event/intro-to-ham-radio-workshop-06-15-2024/
LOCATION:Bell Tech Center\, 4357 Gage Avenue\, Bell\, CA\, 90201\, United States
CATEGORIES:Workshops
ORGANIZER;CN="SCDC":MAILTO:info@scdcorp.org
END:VEVENT
BEGIN:VEVENT
DTSTART;VALUE=DATE:20240617
DTEND;VALUE=DATE:20240628
DTSTAMP:20260424T142135
CREATED:20240430T202239Z
LAST-MODIFIED:20240605T011848Z
UID:9723-1718582400-1719532799@www.scdcorp.org
SUMMARY:Summer Tech Camp Session One @ BTC
DESCRIPTION:
URL:https://www.scdcorp.org/event/summer-tech-camp-session-one-btc/
LOCATION:Bell Tech Center\, 4357 Gage Avenue\, Bell\, CA\, 90201\, United States
ORGANIZER;CN="SCDC":MAILTO:info@scdcorp.org
END:VEVENT
BEGIN:VEVENT
DTSTART;VALUE=DATE:20240617
DTEND;VALUE=DATE:20240628
DTSTAMP:20260424T142135
CREATED:20240430T202444Z
LAST-MODIFIED:20240430T202444Z
UID:9725-1718582400-1719532799@www.scdcorp.org
SUMMARY:Summer Tech Camp Session One @ BG
DESCRIPTION:
URL:https://www.scdcorp.org/event/summer-tech-camp-session-one-bg/
LOCATION:Bell Gardens HQ\, 6423 Florence Place STE 103\, Bell Gardens\, CA\, 90201\, United States
ORGANIZER;CN="SCDC":MAILTO:info@scdcorp.org
END:VEVENT
BEGIN:VEVENT
DTSTART;TZID=America/Los_Angeles:20240618T180000
DTEND;TZID=America/Los_Angeles:20240618T200000
DTSTAMP:20260424T142135
CREATED:20240516T170515Z
LAST-MODIFIED:20240517T160236Z
UID:9753-1718733600-1718740800@www.scdcorp.org
SUMMARY:Bingo Night Fundraiser
DESCRIPTION:FOR AGES 12 AND OVER \nGet ready to shout “BINGO!” and win some amazing prizes at this fun-filled event. You will also be helping us fundraise for Summer Tech Camp 2024. \nTICKETS\nThe “Playing For a Good Cause” – $15\nAdmission for one. Includes 1 drink and 1 game board \nThe “I’m Here to Win!” – $100\nAdmission for one. Includes 1 drink\, 5 game boards\, and 5 raffle tickets \nEXTRAS\nExtra board – $5\nHotdog – $3\nSnacks & Drinks $1-$5 \nCLICK HERE TO RSVP NOW 
URL:https://www.scdcorp.org/event/bingo-night-fundraiser/
LOCATION:Newstart Event Center\, 3355 E Gage Ave\, Huntington Park\, CA\, 90255\, United States
CATEGORIES:Community Event
END:VEVENT
BEGIN:VEVENT
DTSTART;TZID=America/Los_Angeles:20240629T100000
DTEND;TZID=America/Los_Angeles:20240629T140000
DTSTAMP:20260424T142135
CREATED:20240611T013114Z
LAST-MODIFIED:20240611T013114Z
UID:9846-1719655200-1719669600@www.scdcorp.org
SUMMARY:Recycling is Rewarding: Bell Filter Exchange Event!
DESCRIPTION:FREE OIL FILTER IN EXCHANGE FOR YOUR USED OIL FILTER. \nJoin us for a sustainable and rewarding experience at the Filter Exchange Event! Turn in your\nused oil filter and receive a new one for FREE\, along with a recycling kit for used oil and filters\n(while supplies last). It’s our way of saying thank you for contributing to a greener and cleaner\ncommunity.
URL:https://www.scdcorp.org/event/recycling-is-rewarding-bell-filter-exchange-event/
LOCATION:7019 S. Atlantic Ave. Bell\, CA 90201\, 7019 S. Atlantic Ave\, Bell\, CA\, 90201\, United States
CATEGORIES:Community Event
END:VEVENT
END:VCALENDAR