BEGIN:VCALENDAR
VERSION:2.0
PRODID:-//Southeast Community Development Corporation - ECPv6.15.20//NONSGML v1.0//EN
CALSCALE:GREGORIAN
METHOD:PUBLISH
X-ORIGINAL-URL:https://www.scdcorp.org
X-WR-CALDESC:Events for Southeast Community Development Corporation
REFRESH-INTERVAL;VALUE=DURATION:PT1H
X-Robots-Tag:noindex
X-PUBLISHED-TTL:PT1H
BEGIN:VTIMEZONE
TZID:America/Los_Angeles
BEGIN:DAYLIGHT
TZOFFSETFROM:-0800
TZOFFSETTO:-0700
TZNAME:PDT
DTSTART:20230312T100000
END:DAYLIGHT
BEGIN:STANDARD
TZOFFSETFROM:-0700
TZOFFSETTO:-0800
TZNAME:PST
DTSTART:20231105T090000
END:STANDARD
BEGIN:DAYLIGHT
TZOFFSETFROM:-0800
TZOFFSETTO:-0700
TZNAME:PDT
DTSTART:20240310T100000
END:DAYLIGHT
BEGIN:STANDARD
TZOFFSETFROM:-0700
TZOFFSETTO:-0800
TZNAME:PST
DTSTART:20241103T090000
END:STANDARD
BEGIN:DAYLIGHT
TZOFFSETFROM:-0800
TZOFFSETTO:-0700
TZNAME:PDT
DTSTART:20250309T100000
END:DAYLIGHT
BEGIN:STANDARD
TZOFFSETFROM:-0700
TZOFFSETTO:-0800
TZNAME:PST
DTSTART:20251102T090000
END:STANDARD
END:VTIMEZONE
BEGIN:VEVENT
DTSTART;TZID=America/Los_Angeles:20240201T120000
DTEND;TZID=America/Los_Angeles:20240201T140000
DTSTAMP:20260424T202626
CREATED:20240123T195633Z
LAST-MODIFIED:20240123T195633Z
UID:9426-1706788800-1706796000@www.scdcorp.org
SUMMARY:Metro LB-ELA Corridor | Virtual Meeting 1
DESCRIPTION:Metro and Caltrans invite you to attend the virtual Community Meeting on Thursday\, February 1\, from 12-2pm via Zoom. Learn more about the draft Long Beach to East Los Angeles Corridor Investment Plan and provide input on the recommended projects and funding strategies identified to improve mobility and safety for the communities between Long Beach and East Los Angeles. \nFor more information and to register online\, please visit linktr.ee/lbelacorridor. Unable to attend virtually\, the meeting will be streaming locally for your convenience at East Los Angeles College (ELA campus) located at 1301 Avenida Cesar Chavez\, Monterey Park.
URL:https://www.scdcorp.org/event/metro-lb-ela-corridor-virtual-meeting-1/
LOCATION:Online
END:VEVENT
BEGIN:VEVENT
DTSTART;TZID=America/Los_Angeles:20240201T180000
DTEND;TZID=America/Los_Angeles:20240201T200000
DTSTAMP:20260424T202626
CREATED:20240123T200839Z
LAST-MODIFIED:20240123T201827Z
UID:9439-1706810400-1706817600@www.scdcorp.org
SUMMARY:Metro LB-ELA Corridor | In-Person Community Meeting Commerce
DESCRIPTION:Metro and Caltrans invite you to attend our in-person Community Meeting on Thursday\, February 1\, from 6-8pm at Bristow Park Community Center in Commerce\, CA. Learn more about the draft Long Beach to East Los Angeles Corridor Investment Plan and provide input on the recommended projects and funding strategies identified to improve mobility and safety for the communities between Long Beach and East Los Angeles. \nFor more information and to register online\, please visit linktr.ee/lbelacorridor.
URL:https://www.scdcorp.org/event/metro-lb-ela-corridor-in-person-community-meeting-1/
LOCATION:Bristow Park Community Center\, 1466 S McDonnell Ave\, Commerce\, CA\, 90040\, United States
CATEGORIES:Community Event
END:VEVENT
BEGIN:VEVENT
DTSTART;TZID=America/Los_Angeles:20240203T100000
DTEND;TZID=America/Los_Angeles:20240203T113000
DTSTAMP:20260424T202626
CREATED:20240123T195758Z
LAST-MODIFIED:20240123T201759Z
UID:9433-1706954400-1706959800@www.scdcorp.org
SUMMARY:Metro LB-ELA Corridor | Virtual Meeting 2
DESCRIPTION:Metro and Caltrans invite you to attend the virtual Community Meeting on Saturday\, February 3\, from 10-11:30am via Zoom. Learn more about the draft Long Beach to East Los Angeles Corridor Investment Plan and provide input on the recommended projects and funding strategies identified to improve mobility and safety for the communities between Long Beach and East Los Angeles. \nFor more information and to register online\, please visit linktr.ee/lbelacorridor. Unable to attend virtually\, the meeting will be streaming locally for your convenience at East Los Angeles College (South Gate Campus) located at 2340 Firestone Blvd.\, South Gate.
URL:https://www.scdcorp.org/event/metro-lb-ela-corridor-virtual-meeting-2/
LOCATION:Online
CATEGORIES:Community Event
END:VEVENT
BEGIN:VEVENT
DTSTART;TZID=America/Los_Angeles:20240203T100000
DTEND;TZID=America/Los_Angeles:20240203T130000
DTSTAMP:20260424T202626
CREATED:20240105T001946Z
LAST-MODIFIED:20240105T002122Z
UID:9333-1706954400-1706965200@www.scdcorp.org
SUMMARY:2024-2025 FAFSA Application Workshop
DESCRIPTION:Since FAFSA has changed their application process for the 2024-2025 academic year\, SELA ARTS CENTER and SCDC will be collaborating to help students and families apply. \nPlease RSVP to reserve your spot!! \n What should parents & students prepare? \n\nParents & students will need an email address\nSSN/ITN for Parents & Students\nIf parents filed married/joint\, they’ll also need the other person’s SSN\nStudents have a list of the schools they’re applying to
URL:https://www.scdcorp.org/event/2024-fafsa-workshop/
LOCATION:Bell Tech Center\, 4357 Gage Avenue\, Bell\, CA\, 90201\, United States
CATEGORIES:Workshops
ORGANIZER;CN="SCDC":MAILTO:info@scdcorp.org
END:VEVENT
BEGIN:VEVENT
DTSTART;TZID=America/Los_Angeles:20240207T180000
DTEND;TZID=America/Los_Angeles:20240207T200000
DTSTAMP:20260424T202626
CREATED:20240123T201703Z
LAST-MODIFIED:20240123T201951Z
UID:9442-1707328800-1707336000@www.scdcorp.org
SUMMARY:Metro LB-ELA Corridor | In-Person Community Meeting Lynwood
DESCRIPTION:Metro and Caltrans invite you to attend our in-person Community Meeting on Wednesday\, February 7\, from 6-8pm at Bateman Hall in Lynwood\, CA. Learn more about the draft Long Beach to East Los Angeles Corridor Investment Plan and provide input on the recommended projects and funding strategies identified to improve mobility and safety for the communities between Long Beach and East Los Angeles. \nFor more information and to register online\, please visit linktr.ee/lbelacorridor.
URL:https://www.scdcorp.org/event/metro-lb-ela-corridor-in-person-community-meeting-lynwood/
LOCATION:Bateman Hall\, 11331 Ernestine Ave\, Lynwood\, CA\, 90262\, United States
END:VEVENT
BEGIN:VEVENT
DTSTART;TZID=America/Los_Angeles:20240210T100000
DTEND;TZID=America/Los_Angeles:20240210T140000
DTSTAMP:20260424T202626
CREATED:20240110T003024Z
LAST-MODIFIED:20240110T024713Z
UID:9365-1707559200-1707573600@www.scdcorp.org
SUMMARY:Intro to HAM Radio Workshop
DESCRIPTION:Ever wondered how truckers and police officers are able to communicate with each other? \nLearn about the inner workings of amateur radio and how to use them in real-life. Special guests may appear! \nSign up now to save a spot! \n			\n				Sign Up Now
URL:https://www.scdcorp.org/event/intro-to-ham-radio-workshop-02-10-24/
LOCATION:Bell Tech Center\, 4357 Gage Avenue\, Bell\, CA\, 90201\, United States
ORGANIZER;CN="SCDC":MAILTO:info@scdcorp.org
END:VEVENT
BEGIN:VEVENT
DTSTART;TZID=America/Los_Angeles:20240213T180000
DTEND;TZID=America/Los_Angeles:20240213T200000
DTSTAMP:20260424T202626
CREATED:20240123T200007Z
LAST-MODIFIED:20240123T200007Z
UID:9437-1707847200-1707854400@www.scdcorp.org
SUMMARY:Metro LB-ELA Corridor | Virtual Meeting 4
DESCRIPTION:Metro and Caltrans invite you to attend the virtual Community Meeting on Tuesday\, February 13\, from 6-8pm via Zoom. Learn more about the draft Long Beach to East Los Angeles Corridor Investment Plan and provide input on the recommended projects and funding strategies identified to improve mobility and safety for the communities between Long Beach and East Los Angeles. \nFor more information and to register online\, please visit linktr.ee/lbelacorridor. Unable to attend virtually\, the meeting will be streaming locally for your convenience at two locations: Southeast Rio Vista YMCA located at 4801 E. 58th St\, Maywood and Rancho Los Amigos National Rehabilitation Center “Auditorium” located at 7601 Imperial Hwy\, Downey.
URL:https://www.scdcorp.org/event/metro-lb-ela-corridor-virtual-meeting-4/
LOCATION:Online
CATEGORIES:Community Event
END:VEVENT
BEGIN:VEVENT
DTSTART;TZID=America/Los_Angeles:20240217T080000
DTEND;TZID=America/Los_Angeles:20240217T170000
DTSTAMP:20260424T202626
CREATED:20240205T204659Z
LAST-MODIFIED:20240205T204659Z
UID:9464-1708156800-1708189200@www.scdcorp.org
SUMMARY:FTC Scrimmage
DESCRIPTION:
URL:https://www.scdcorp.org/event/2023-ftc-scrimmage-feb-17-2024/
LOCATION:CAMS\, 1000 E Victoria St\, Carson\, CA\, 90747\, United States
CATEGORIES:FIRST TECH Challenge,Robotics
END:VEVENT
BEGIN:VEVENT
DTSTART;TZID=America/Los_Angeles:20240224T070000
DTEND;TZID=America/Los_Angeles:20240224T170000
DTSTAMP:20260424T202626
CREATED:20231212T211055Z
LAST-MODIFIED:20240226T230248Z
UID:9305-1708758000-1708794000@www.scdcorp.org
SUMMARY:FTC Inter-League Tournament
DESCRIPTION:The CYBER-NAUTS are going to Fountain Valley for their Inter-League Tournament for Leagues G (CARSON) and O2 (Fountain Valley). \nSupport our rookie team as they go against 21 teams for a spot in SoCal’s Championship!!!
URL:https://www.scdcorp.org/event/2023-ftc-inter-league-tournament/
LOCATION:Fountain Valley High School\, 17816 Bushard St\, Fountain Valley\, CA\, 92708\, United States
CATEGORIES:FIRST TECH Challenge,Robotics
END:VEVENT
END:VCALENDAR