BEGIN:VCALENDAR
VERSION:2.0
PRODID:-//Southeast Community Development Corporation - ECPv6.15.20//NONSGML v1.0//EN
CALSCALE:GREGORIAN
METHOD:PUBLISH
X-WR-CALNAME:Southeast Community Development Corporation
X-ORIGINAL-URL:https://www.scdcorp.org
X-WR-CALDESC:Events for Southeast Community Development Corporation
REFRESH-INTERVAL;VALUE=DURATION:PT1H
X-Robots-Tag:noindex
X-PUBLISHED-TTL:PT1H
BEGIN:VTIMEZONE
TZID:America/Los_Angeles
BEGIN:DAYLIGHT
TZOFFSETFROM:-0800
TZOFFSETTO:-0700
TZNAME:PDT
DTSTART:20230312T100000
END:DAYLIGHT
BEGIN:STANDARD
TZOFFSETFROM:-0700
TZOFFSETTO:-0800
TZNAME:PST
DTSTART:20231105T090000
END:STANDARD
BEGIN:DAYLIGHT
TZOFFSETFROM:-0800
TZOFFSETTO:-0700
TZNAME:PDT
DTSTART:20240310T100000
END:DAYLIGHT
BEGIN:STANDARD
TZOFFSETFROM:-0700
TZOFFSETTO:-0800
TZNAME:PST
DTSTART:20241103T090000
END:STANDARD
BEGIN:DAYLIGHT
TZOFFSETFROM:-0800
TZOFFSETTO:-0700
TZNAME:PDT
DTSTART:20250309T100000
END:DAYLIGHT
BEGIN:STANDARD
TZOFFSETFROM:-0700
TZOFFSETTO:-0800
TZNAME:PST
DTSTART:20251102T090000
END:STANDARD
BEGIN:DAYLIGHT
TZOFFSETFROM:-0800
TZOFFSETTO:-0700
TZNAME:PDT
DTSTART:20260308T100000
END:DAYLIGHT
BEGIN:STANDARD
TZOFFSETFROM:-0700
TZOFFSETTO:-0800
TZNAME:PST
DTSTART:20261101T090000
END:STANDARD
END:VTIMEZONE
BEGIN:VEVENT
DTSTART;VALUE=DATE:20250707
DTEND;VALUE=DATE:20250718
DTSTAMP:20260423T171632
CREATED:20250604T185638Z
LAST-MODIFIED:20250604T185638Z
UID:19541-1751846400-1752796799@www.scdcorp.org
SUMMARY:Summer Tech Camp Session 2 - BTC
DESCRIPTION:No camp on Fridays and the weekends
URL:https://www.scdcorp.org/event/2025-summer-tech-camp-session-2-btc/
LOCATION:Bell Tech Center\, 4357 Gage Avenue\, Bell\, CA\, 90201\, United States
ORGANIZER;CN="SCDC":MAILTO:info@scdcorp.org
END:VEVENT
BEGIN:VEVENT
DTSTART;VALUE=DATE:20250707
DTEND;VALUE=DATE:20250718
DTSTAMP:20260423T171632
CREATED:20250604T185458Z
LAST-MODIFIED:20250604T190729Z
UID:19539-1751846400-1752796799@www.scdcorp.org
SUMMARY:Summer Tech Camp Session 2 - BG
DESCRIPTION:No camp on Fridays and the weekends
URL:https://www.scdcorp.org/event/2025-summer-tech-camp-session-2-bg/
LOCATION:Bell Gardens HQ\, 6423 Florence Place STE 103\, Bell Gardens\, CA\, 90201\, United States
ORGANIZER;CN="SCDC":MAILTO:info@scdcorp.org
END:VEVENT
BEGIN:VEVENT
DTSTART;VALUE=DATE:20250630
DTEND;VALUE=DATE:20250705
DTSTAMP:20260423T171632
CREATED:20250602T214108Z
LAST-MODIFIED:20250604T190950Z
UID:19520-1751241600-1751673599@www.scdcorp.org
SUMMARY:☀︎ SCDC Summer Break
DESCRIPTION:We will be closed for summer break from! During this time\, all programs and activities will be paused as we take a short break to rest and recharge. \nWe’ll resume normal operations on July 7th\, and we look forward to seeing you then! \nThank you for your understanding\, and we hope you’re enjoying a fun and relaxing summer!
URL:https://www.scdcorp.org/event/scdc-summer-break-2025/
LOCATION:CA
ORGANIZER;CN="SCDC":MAILTO:info@scdcorp.org
END:VEVENT
BEGIN:VEVENT
DTSTART;VALUE=DATE:20250616
DTEND;VALUE=DATE:20250627
DTSTAMP:20260423T171632
CREATED:20250602T214929Z
LAST-MODIFIED:20250604T190841Z
UID:19527-1750032000-1750982399@www.scdcorp.org
SUMMARY:Summer Tech Camp Session 1 - BG
DESCRIPTION:No camp on Fridays and the weekends
URL:https://www.scdcorp.org/event/2025-summer-tech-camp-session-1-bg/
LOCATION:Bell Gardens HQ\, 6423 Florence Place STE 103\, Bell Gardens\, CA\, 90201\, United States
ORGANIZER;CN="SCDC":MAILTO:info@scdcorp.org
END:VEVENT
BEGIN:VEVENT
DTSTART;VALUE=DATE:20250616
DTEND;VALUE=DATE:20250627
DTSTAMP:20260423T171632
CREATED:20250602T214444Z
LAST-MODIFIED:20250604T190904Z
UID:19523-1750032000-1750982399@www.scdcorp.org
SUMMARY:Summer Tech Camp Session 1 - BTC
DESCRIPTION:No Camp on Fridays and the Weekends
URL:https://www.scdcorp.org/event/2025-summer-tech-camp-session-1-btc/
LOCATION:Bell Tech Center\, 4357 Gage Avenue\, Bell\, CA\, 90201\, United States
ORGANIZER;CN="SCDC":MAILTO:info@scdcorp.org
END:VEVENT
BEGIN:VEVENT
DTSTART;TZID=America/Los_Angeles:20250601T140000
DTEND;TZID=America/Los_Angeles:20250601T170000
DTSTAMP:20260423T171632
CREATED:20250513T194615Z
LAST-MODIFIED:20250513T194820Z
UID:19464-1748786400-1748797200@www.scdcorp.org
SUMMARY:2025 SELA Send Off
DESCRIPTION:SELA Seniors\, this one’s for YOU! \nWe’re sending you off to college in style with a FREE community celebration just for high school seniors from SELA! Join us for our SELA College Sendoff on Sunday\, June 1st from 2-5 PM at Firebaugh High School in Lynwood! \nA day filled with encouragement\, resources\, fun\, and connection as you prepare for your next big step! Parents are welcome\, too! Meet other families\, learn more about the college transition\, and get your questions answered. Translators will be available onsite. \nDon’t miss out — our annual T-shirts are and supplies are limited! Register now and help spread the word to all current SELA seniors! \nREGISTER NOW↗
URL:https://www.scdcorp.org/event/2025-sela-send-off/
LOCATION:Firebaugh High School\, 5246 Martin Luther King Jr Blvd\, Lynwood\, CA\, 90262\, United States
CATEGORIES:Community Event
END:VEVENT
BEGIN:VEVENT
DTSTART;TZID=America/Los_Angeles:20250509T140000
DTEND;TZID=America/Los_Angeles:20250509T180000
DTSTAMP:20260423T171632
CREATED:20250429T172038Z
LAST-MODIFIED:20250429T172038Z
UID:19404-1746799200-1746813600@www.scdcorp.org
SUMMARY:Graduation Cap and Sash Decoration Workshop
DESCRIPTION:🎓 Congrats Class of 2025! \nCelebrate your achievement with style! Join us after school for a fun\, creative workshop where you can decorate your graduation cap and sash. All materials will be provided—just bring your ideas! \nSpaces are limited—reserve your spot and make your grad gear unforgettable! \nRegister Now
URL:https://www.scdcorp.org/event/graduation-cap-and-sash-decoration-workshop/
LOCATION:Bell Tech Center\, 4357 Gage Avenue\, Bell\, CA\, 90201\, United States
CATEGORIES:Workshops
ORGANIZER;CN="SCDC":MAILTO:info@scdcorp.org
END:VEVENT
BEGIN:VEVENT
DTSTART;TZID=America/Los_Angeles:20250504T100000
DTEND;TZID=America/Los_Angeles:20250504T140000
DTSTAMP:20260423T171632
CREATED:20250429T172255Z
LAST-MODIFIED:20250429T172255Z
UID:19406-1746352800-1746367200@www.scdcorp.org
SUMMARY:LEGO Make & Take!
DESCRIPTION:Calling all young builders ages 6–12! \nJoin us during the City of Bell’s Open Streets for a fun LEGO Make & Take activity where creativity knows no limits. Kids will get the chance to build their very own LEGO creation — and the best part? They get to take it home! \nWhether they build a spaceship\, a tower\, or something totally out-of-the-box\, this event is perfect for young imaginations to run wild. All materials will be provided — just bring your creativity and excitement! \nDon’t miss out on the fun — first come\, first served!
URL:https://www.scdcorp.org/event/lego-make-take/
LOCATION:Bell Tech Center\, 4357 Gage Avenue\, Bell\, CA\, 90201\, United States
CATEGORIES:Community Event
ORGANIZER;CN="SCDC":MAILTO:info@scdcorp.org
END:VEVENT
BEGIN:VEVENT
DTSTART;TZID=America/Los_Angeles:20250503T090000
DTEND;TZID=America/Los_Angeles:20250503T140000
DTSTAMP:20260423T171632
CREATED:20250429T203704Z
LAST-MODIFIED:20250429T203715Z
UID:19420-1746262800-1746280800@www.scdcorp.org
SUMMARY:Mother’s Day Flower Pot Painting Workshop
DESCRIPTION:🌸 Celebrate Mother’s Day with a creative and meaningful activity! Join us for a fun\, hands-on workshop where you’ll paint your own flower pot and plant it with fresh wildflowers to take home. It’s the perfect way to spend time with loved ones or make a thoughtful\, handmade gift. \nLocation: Bell Gardens HQ \nAll supplies are included with a donation of $20. \nSpots are limited—reserve yours today and let your creativity bloom! \nRegister Now
URL:https://www.scdcorp.org/event/mothers-day-flower-pot-painting-workshop/
LOCATION:Bell Gardens HQ\, 6423 Florence Place STE 103\, Bell Gardens\, CA\, 90201\, United States
CATEGORIES:Workshops
ORGANIZER;CN="SCDC":MAILTO:info@scdcorp.org
END:VEVENT
BEGIN:VEVENT
DTSTART;TZID=America/Los_Angeles:20250503T080000
DTEND;TZID=America/Los_Angeles:20250503T163000
DTSTAMP:20260423T171632
CREATED:20250429T172725Z
LAST-MODIFIED:20250429T203858Z
UID:19408-1746259200-1746289800@www.scdcorp.org
SUMMARY:2025 FLL Spring Showdown
DESCRIPTION:SCDC’s LEGO League Challenge Team CYBER-NAUT Stars will be participating in the 2025 SoCal Spring Showdown: Finding Roboto. \nTheir competition lands on Saturday\, May 3rd in Rosemead\, CA.  \nHelp cover the team’s transportation and meals for competition! \nDonate Now
URL:https://www.scdcorp.org/event/2025-fll-spring-showdown/
LOCATION:Don Bosco Technical Institute\, 1151 San Gabriel Blvd\, Rosemead\, CA\, 91770\, United States
CATEGORIES:FIRST LEGO League,Robotics
END:VEVENT
BEGIN:VEVENT
DTSTART;TZID=America/Los_Angeles:20250414T090000
DTEND;TZID=America/Los_Angeles:20250414T140000
DTSTAMP:20260423T171632
CREATED:20250404T180023Z
LAST-MODIFIED:20250404T180023Z
UID:19355-1744621200-1744639200@www.scdcorp.org
SUMMARY:Intro to Basic Electronics Workshop
DESCRIPTION:This session introduces kids to the fundamentals through hands-on activities\, including soldering components onto a circuit board. \nThey’ll even take home their very own fun project. \nSIGN UP NOW↗
URL:https://www.scdcorp.org/event/intro-to-basic-electronics-workshop-04-14-2025/
LOCATION:Bell Tech Center\, 4357 Gage Avenue\, Bell\, CA\, 90201\, United States
CATEGORIES:Workshops
ORGANIZER;CN="SCDC":MAILTO:info@scdcorp.org
END:VEVENT
BEGIN:VEVENT
DTSTART;TZID=America/Los_Angeles:20250322T090000
DTEND;TZID=America/Los_Angeles:20250322T140000
DTSTAMP:20260423T171632
CREATED:20250303T210208Z
LAST-MODIFIED:20250303T210423Z
UID:19248-1742634000-1742652000@www.scdcorp.org
SUMMARY:Ham Radio Workshop and Demonstration
DESCRIPTION:This session immerses you in the world of ham radio\, exploring its functions\, with visits from police departments to discuss emergency response. \nGet ready to connect with people from around the globe over the airwaves! \nSIGN UP NOW↗
URL:https://www.scdcorp.org/event/ham-radio-workshop-and-demonstration-3-22-2025/
LOCATION:Bell Tech Center\, 4357 Gage Avenue\, Bell\, CA\, 90201\, United States
CATEGORIES:Workshops
ORGANIZER;CN="SCDC":MAILTO:info@scdcorp.org
END:VEVENT
BEGIN:VEVENT
DTSTART;TZID=America/Los_Angeles:20250308T100000
DTEND;TZID=America/Los_Angeles:20250308T113000
DTSTAMP:20260423T171632
CREATED:20250214T194254Z
LAST-MODIFIED:20250303T210307Z
UID:18950-1741428000-1741433400@www.scdcorp.org
SUMMARY:Metro Rail to River Meeting #3 (In-Person)
DESCRIPTION:Metro has a plan to make it easier to get around LA County\, including streets that are safer for everyone. Metro wants your input to improve bicycle and pedestrian connections between the A Line Slauson Station and the LA River. \nJoin us at a community meeting to receive project updates\, including improvements being planned along Randolph St\, in collaboration with the local jurisdictions and the Randolph Corridor Active Transportation project\, as well as the opportunity to ask questions and provide feedback. \nThis meeting will have a Kids’ Corner with fun activities. \nThe same information will be presented at each meeting. Free onsite parking and Spanish interpreters will be available. \nFor complete project information\, please visit www.metro.net/projects/r2rb.
URL:https://www.scdcorp.org/event/metro-rail-to-river-meeting-3-in-person/
LOCATION:Bell Community Center\, 6250 Pine Ave\, Bell\, CA\, 90201\, United States
CATEGORIES:Community Event
END:VEVENT
BEGIN:VEVENT
DTSTART;TZID=America/Los_Angeles:20250306T120000
DTEND;TZID=America/Los_Angeles:20250306T130000
DTSTAMP:20260423T171632
CREATED:20250214T194043Z
LAST-MODIFIED:20250214T194106Z
UID:18947-1741262400-1741266000@www.scdcorp.org
SUMMARY:Metro Rail to River Meeting #2 (Virtual)
DESCRIPTION:Metro has a plan to make it easier to get around LA County\, including streets that are safer for everyone. Metro wants your input to improve bicycle and pedestrian connections between the A Line Slauson Station and the LA River. \nJoin us at a community meeting to receive project updates\, including improvements being planned along Randolph St\, in collaboration with the local jurisdictions and the Randolph Corridor Active Transportation project\, as well as the opportunity to ask questions and provide feedback. \nThe same information will be presented at each meeting!  \nClick here to join via Zoom! \nFor complete project information\, please visit www.metro.net/projects/r2rb.
URL:https://www.scdcorp.org/event/metro-rail-to-river-meeting-2-virtual/
LOCATION:Online
CATEGORIES:Community Event
END:VEVENT
BEGIN:VEVENT
DTSTART;TZID=America/Los_Angeles:20250301T090000
DTEND;TZID=America/Los_Angeles:20250301T230000
DTSTAMP:20260423T171632
CREATED:20250228T023600Z
LAST-MODIFIED:20250228T023600Z
UID:19242-1740819600-1740870000@www.scdcorp.org
SUMMARY:2025 FAFSA Application Workshop #2
DESCRIPTION:Join us alongside the SELA Arts Center for our second FREE FAFSA Workshop for 2025! \nWe’ll be going over the basics for FAFSA and help you file. \nBoth parents AND students will need:\n– SSN/ITIN\n– 2023 Taxes\n– Access to an email address\nRSVP Now!
URL:https://www.scdcorp.org/event/2025-fafsa-application-workshop-2/
LOCATION:Bell Tech Center\, 4357 Gage Avenue\, Bell\, CA\, 90201\, United States
ORGANIZER;CN="SCDC":MAILTO:info@scdcorp.org
END:VEVENT
BEGIN:VEVENT
DTSTART;TZID=America/Los_Angeles:20250225T180000
DTEND;TZID=America/Los_Angeles:20250225T193000
DTSTAMP:20260423T171632
CREATED:20250214T190301Z
LAST-MODIFIED:20250214T194129Z
UID:18941-1740506400-1740511800@www.scdcorp.org
SUMMARY:Metro Rail to River Meeting #1 (In-Person)
DESCRIPTION:Metro has a plan to make it easier to get around LA County\, including streets that are safer for everyone. Metro wants your input to improve bicycle and pedestrian connections between the A Line Slauson Station and the LA River. \nJoin us at a community meeting to receive project updates\, including improvements being planned along Randolph St\, in collaboration with the local jurisdictions and the Randolph Corridor Active Transportation project\, as well as the opportunity to ask questions and provide feedback. \nThis meeting will have a Kids’ Corner with fun activities. \nThe same information will be presented at each meeting. Free onsite parking and Spanish interpreters will be available. \nFor complete project information\, please visit www.metro.net/projects/r2rb.
URL:https://www.scdcorp.org/event/metro-rail-to-river-meeting-1-in-person/
LOCATION:Newstart Event Center\, 3355 E Gage Ave\, Huntington Park\, CA\, 90255\, United States
CATEGORIES:Community Event
END:VEVENT
BEGIN:VEVENT
DTSTART;TZID=America/Los_Angeles:20250208T100000
DTEND;TZID=America/Los_Angeles:20250208T150000
DTSTAMP:20260423T171632
CREATED:20250124T220228Z
LAST-MODIFIED:20250124T220228Z
UID:10337-1739008800-1739026800@www.scdcorp.org
SUMMARY:Valentine's Day Tote Bag Workshop
DESCRIPTION:Ready to create personalized gifts using Cricut equipment? Join us for a fun and hands-on Valentine’s Day workshop where we’ll be designing custom tote bags with Cricut tools! 💕 Whether you’re a Cricut pro or a beginner\, this workshop is perfect for unleashing your creativity and making something special for yourself or a loved one. 🛍️ \n🗓 Date: February 8th\n⏰ Time: 10:00 AM – 3:00 PM\n📍 Location: Bell Tech Center\n💰 Donation: $10 per person \nBring your creativity and leave with a one-of-a-kind tote bag that’s as special as you are! 💌 \nSIGN UP NOW↗
URL:https://www.scdcorp.org/event/valentines-day-tote-bag-workshop-02-08-2025/
LOCATION:Bell Tech Center\, 4357 Gage Avenue\, Bell\, CA\, 90201\, United States
CATEGORIES:Workshops
ORGANIZER;CN="SCDC":MAILTO:info@scdcorp.org
END:VEVENT
BEGIN:VEVENT
DTSTART;TZID=America/Los_Angeles:20250125T080000
DTEND;TZID=America/Los_Angeles:20250125T120000
DTSTAMP:20260423T171632
CREATED:20250114T001725Z
LAST-MODIFIED:20250124T220304Z
UID:10304-1737792000-1737806400@www.scdcorp.org
SUMMARY:Introduction to Electronics Workshop 01-25-2025
DESCRIPTION:[FULL CAPACITY] Middle & High School Students! Ready to power up your skills? Join us for an exciting Intro to Electronics workshop at the Southeast Rio Vista YMCA! Whether you’re curious about circuits\, gadgets\, or how things work\, this is the perfect hands-on experience for you. \n🚀 Learn the basics of electronics\, build cool projects\, and spark your creativity! Whether you’re a beginner or have some experience\, this workshop is for you!
URL:https://www.scdcorp.org/event/introduction-to-electronics-workshop-01-25-2025/
LOCATION:Southeast Rio Vista YMCA\, 4801 E 58th Street\, Maywood\, CA\, 90270\, United States
CATEGORIES:Workshops
ORGANIZER;CN="SCDC":MAILTO:info@scdcorp.org
END:VEVENT
BEGIN:VEVENT
DTSTART;TZID=America/Los_Angeles:20241207T100000
DTEND;TZID=America/Los_Angeles:20241207T140000
DTSTAMP:20260423T171632
CREATED:20241121T213135Z
LAST-MODIFIED:20241121T213256Z
UID:10284-1733565600-1733580000@www.scdcorp.org
SUMMARY:Holiday Stocking Decoration Workshop
DESCRIPTION:The holiday season is fast approaching\, and what better way to get into the festive spirit than by creating your very own custom holiday stockings! We are excited to invite you to our Holiday Stocking Decoration Workshop\, where you can get creative and craft a beautiful stocking for yourself or as a thoughtful gift. \nWhat to Expect: \n\nCustom Stockings: Start with a plain stocking that’s ready to be personalized with your choice of colors\, patterns\, and embellishments.\nCreative Materials: Access a wide range of festive decorating materials\, including glitter\, sequins\, fabric paints\, ribbons\, beads\, stencils\, and more!\nExpert Guidance: Our experienced instructors will be there to offer helpful tips and inspire your creativity\, whether you’re a crafting pro or a first-timer.\nHoliday Cheer: Enjoy a cozy\, festive atmosphere with holiday music\, light refreshments\, and the chance to meet other holiday enthusiasts.\n\nRSVP NOW!
URL:https://www.scdcorp.org/event/holiday-stocking-decoration-workshop/
LOCATION:Bell Tech Center\, 4357 Gage Avenue\, Bell\, CA\, 90201\, United States
CATEGORIES:Community Event
ORGANIZER;CN="SCDC":MAILTO:info@scdcorp.org
END:VEVENT
BEGIN:VEVENT
DTSTART;VALUE=DATE:20241125
DTEND;VALUE=DATE:20241130
DTSTAMP:20260423T171632
CREATED:20241105T191622Z
LAST-MODIFIED:20241105T191654Z
UID:10253-1732492800-1732924799@www.scdcorp.org
SUMMARY:SCDC Thanksgiving Break
DESCRIPTION:🍂🦃 Thanksgiving Break Announcement! 🦃🍂 \nWe’re taking a little break to enjoy the holiday with family and friends! \nWe will be closed from November 25th to November 29th. \nWe’re grateful for your support and will be back and ready to serve you on December 2nd! 🙌 \nWishing you all a joyful and restful Thanksgiving! 🧡
URL:https://www.scdcorp.org/event/2024-thanksgiving-break/
LOCATION:Bell Tech Center\, 4357 Gage Avenue\, Bell\, CA\, 90201\, United States
ORGANIZER;CN="SCDC":MAILTO:info@scdcorp.org
END:VEVENT
BEGIN:VEVENT
DTSTART;TZID=America/Los_Angeles:20241116T073000
DTEND;TZID=America/Los_Angeles:20241116T123000
DTSTAMP:20260423T171632
CREATED:20241001T174916Z
LAST-MODIFIED:20241001T174916Z
UID:10190-1731742200-1731760200@www.scdcorp.org
SUMMARY:FTC Meet 1
DESCRIPTION:Help support our FTC team\, the CYBER-NAUTS\, on their 1st official meet of the year! \nFeel free to drop off snacks or drinks the day before for their event. \nIf you’d like to volunteer during these competitions\, feel free to send us an email!
URL:https://www.scdcorp.org/event/ftc-meet-1-11-16-2024/
LOCATION:CA
CATEGORIES:FIRST TECH Challenge,Robotics
ORGANIZER;CN="CYBER-NAUTS Robotics Team":MAILTO:cybernauts@scdcorp.org
END:VEVENT
BEGIN:VEVENT
DTSTART;VALUE=DATE:20241105
DTEND;VALUE=DATE:20241106
DTSTAMP:20260423T171632
CREATED:20241105T190812Z
LAST-MODIFIED:20241105T191805Z
UID:10251-1730764800-1730851199@www.scdcorp.org
SUMMARY:Election Day
DESCRIPTION:🗳️ It’s Election Day! 🗳️ \nToday is your chance to make your voice heard! Whether you’re voting for the first time or the hundredth\, your vote matters. 🌟 \n✔️ Don’t forget to check your polling place ✔️ Bring your ID if needed ✔️ Encourage others to vote too! \nLet’s all do our part!
URL:https://www.scdcorp.org/event/election-day/
LOCATION:CA
CATEGORIES:Community Event
ORGANIZER;CN="SCDC":MAILTO:info@scdcorp.org
END:VEVENT
BEGIN:VEVENT
DTSTART;VALUE=DATE:20241102
DTEND;VALUE=DATE:20241103
DTSTAMP:20260423T171632
CREATED:20241001T175031Z
LAST-MODIFIED:20241001T175744Z
UID:10192-1730505600-1730591999@www.scdcorp.org
SUMMARY:FLL Season Qualifiers
DESCRIPTION:SCDC’s LEGO League Challenge Team\, the CYBER-NAUTS Stars\, will be participating in the 2024 SoCal Season Qualifiers. \nTheir competition lands on Saturday\, November 2nd in El Segundo. \nDonate and help cover the team’s transportation and meals for competition\, we accept snack donations at the Bell Tech Center! \n> Donate Now
URL:https://www.scdcorp.org/event/fll-season-qualifiers-11-02-2024/
LOCATION:Da Vinci Science High School\, 201 N. Douglas Street\, El Segundo\, CA\, 90245\, United States
CATEGORIES:FIRST LEGO League,Robotics
END:VEVENT
BEGIN:VEVENT
DTSTART;TZID=America/Los_Angeles:20241026T180000
DTEND;TZID=America/Los_Angeles:20241026T210000
DTSTAMP:20260423T171632
CREATED:20241001T174641Z
LAST-MODIFIED:20241001T174641Z
UID:10183-1729965600-1729976400@www.scdcorp.org
SUMMARY:City of Bell Halloween Carnival
DESCRIPTION:We are excited to invite you to the City of Bell’s annual Halloween Carnival! \nJoin us on Saturday\, October 26th\, at the Bell Community Center from 6:00 PM to 9:00 PM for a night full of spooky fun\, games\, costume contests\, and delicious candy. \nGet ready for a thrilling adventure and make sure to stop by the Trunk or Treat area\, brought to you by us!
URL:https://www.scdcorp.org/event/city-of-bell-halloween-carnival/
LOCATION:Bell Community Center\, 6250 Pine Ave\, Bell\, CA\, 90201\, United States
CATEGORIES:Community Event
ORGANIZER;CN="SCDC":MAILTO:info@scdcorp.org
END:VEVENT
BEGIN:VEVENT
DTSTART;TZID=America/Los_Angeles:20241019T100000
DTEND;TZID=America/Los_Angeles:20241019T140000
DTSTAMP:20260423T171632
CREATED:20241016T192438Z
LAST-MODIFIED:20241016T192530Z
UID:10239-1729332000-1729346400@www.scdcorp.org
SUMMARY:DIY Mad Scientist Lab Coat Workshop
DESCRIPTION:Step into the world of wacky science at our DIY Mad Scientist Lab Coat Workshop! This fun and creative event invites you to customize a classic lab coat\, turning it into your own unique masterpiece fit for experimentation. \nWhat to Expect: \n\nOne-Size-Fits-All Lab Coats: You’ll start with a high-quality\, pre-selected lab coat\, ready for your creative touch.\nCreative Embellishments: Use fabric paints\, markers\, and vinyl to add your own wild designs\, formulas\, and quirky phrases that showcase your mad scientist persona.\nGuided Instruction: Our enthusiastic instructors will guide you through the process\, sharing tips and tricks to help you create a standout look.\n\n  \nDetails \n\nDate: October 12th\nTime: 10AM to 2PM\nLocation: Bell Tech Center\nDonation: $15 per person\n\nSign Up Now
URL:https://www.scdcorp.org/event/diy-mad-scientist-lab-coat-workshop/
LOCATION:Bell Tech Center\, 4357 Gage Avenue\, Bell\, CA\, 90201\, United States
CATEGORIES:Workshops
ORGANIZER;CN="SCDC":MAILTO:info@scdcorp.org
END:VEVENT
BEGIN:VEVENT
DTSTART;TZID=America/Los_Angeles:20241019T100000
DTEND;TZID=America/Los_Angeles:20241019T140000
DTSTAMP:20260423T171632
CREATED:20241001T172614Z
LAST-MODIFIED:20241001T175859Z
UID:10176-1729332000-1729346400@www.scdcorp.org
SUMMARY:Arduino Project Building Workshop
DESCRIPTION:Part of our Electronics Academy Workshops for Middle and High Schoolers! Learn advance programming and build unique projects with motors\, lights\, and sensors.
URL:https://www.scdcorp.org/event/arduino-project-building-workshop-10-19-2024/
LOCATION:Bell Tech Center\, 4357 Gage Avenue\, Bell\, CA\, 90201\, United States
CATEGORIES:Workshops
ORGANIZER;CN="SCDC":MAILTO:info@scdcorp.org
END:VEVENT
BEGIN:VEVENT
DTSTART;TZID=America/Los_Angeles:20241012T100000
DTEND;TZID=America/Los_Angeles:20241012T140000
DTSTAMP:20260423T171632
CREATED:20241009T165331Z
LAST-MODIFIED:20241009T165451Z
UID:10226-1728727200-1728741600@www.scdcorp.org
SUMMARY:Halloween Totebag Workshop
DESCRIPTION:Get ready for some spooky fun! In this workshop\, you’ll create a unique Halloween tote bag perfect for trick-or-treating or carrying your autumn essentials. All materials will be supplied\, and our talented instructors will help you design a bag that’s truly one-of-a-kind. Perfect for all ages! \n\nDate: October 12th\nTime: 10AM to 2PM\nLocation: Bell Tech Center\nDonation: $15 per person\n\nNO MORE SPACES AVAILABLE!
URL:https://www.scdcorp.org/event/halloween-totebag-workshop/
LOCATION:Bell Tech Center\, 4357 Gage Avenue\, Bell\, CA\, 90201\, United States
CATEGORIES:Workshops
ORGANIZER;CN="SCDC":MAILTO:info@scdcorp.org
END:VEVENT
BEGIN:VEVENT
DTSTART;TZID=America/Los_Angeles:20241012T100000
DTEND;TZID=America/Los_Angeles:20241012T140000
DTSTAMP:20260423T171632
CREATED:20241001T172522Z
LAST-MODIFIED:20241001T175835Z
UID:10174-1728727200-1728741600@www.scdcorp.org
SUMMARY:Arduino Programming Workshop
DESCRIPTION:Part of our Electronics Academy Workshops for Middle and High Schoolers! \nLearn the basics of programming an Arduino and while controlling control motors\, lights\, and sensors.
URL:https://www.scdcorp.org/event/arduino-programming-workshop-10-12-2024/
LOCATION:Bell Tech Center\, 4357 Gage Avenue\, Bell\, CA\, 90201\, United States
CATEGORIES:Workshops
ORGANIZER;CN="SCDC":MAILTO:info@scdcorp.org
END:VEVENT
BEGIN:VEVENT
DTSTART;TZID=America/Los_Angeles:20241005T100000
DTEND;TZID=America/Los_Angeles:20241005T140000
DTSTAMP:20260423T171632
CREATED:20241001T172332Z
LAST-MODIFIED:20241001T175823Z
UID:10171-1728122400-1728136800@www.scdcorp.org
SUMMARY:Arduino Basics Workshop
DESCRIPTION:Part of our Electronics Academy Workshops for Middle and High Schoolers!  \nLearn the basics of Arduino and how to build a project using motors\, electrical components\, and wires.
URL:https://www.scdcorp.org/event/arduino-basics-workshop-10-05-2024/
LOCATION:Bell Tech Center\, 4357 Gage Avenue\, Bell\, CA\, 90201\, United States
CATEGORIES:Workshops
ORGANIZER;CN="SCDC":MAILTO:info@scdcorp.org
END:VEVENT
BEGIN:VEVENT
DTSTART;TZID=America/Los_Angeles:20240928T090000
DTEND;TZID=America/Los_Angeles:20240928T140000
DTSTAMP:20260423T171632
CREATED:20240820T233200Z
LAST-MODIFIED:20241001T190423Z
UID:9913-1727514000-1727532000@www.scdcorp.org
SUMMARY:Radio Building Workshop
DESCRIPTION:*MUST HAVE ATTENDED INTRO TO ELECTRONICS* \nThis session expands on your electronics journey! Explore hands-on soldering and radio construction\, and understand how radios work. \nPlus\, take home your very own radio project! \nSIGN UP NOW↗ \n 
URL:https://www.scdcorp.org/event/radio-building-workshop-09-28-2024/
LOCATION:Bell Tech Center\, 4357 Gage Avenue\, Bell\, CA\, 90201\, United States
CATEGORIES:Workshops
END:VEVENT
END:VCALENDAR