BEGIN:VCALENDAR
VERSION:2.0
PRODID:-//Southeast Community Development Corporation - ECPv6.15.20//NONSGML v1.0//EN
CALSCALE:GREGORIAN
METHOD:PUBLISH
X-WR-CALNAME:Southeast Community Development Corporation
X-ORIGINAL-URL:https://www.scdcorp.org
X-WR-CALDESC:Events for Southeast Community Development Corporation
REFRESH-INTERVAL;VALUE=DURATION:PT1H
X-Robots-Tag:noindex
X-PUBLISHED-TTL:PT1H
BEGIN:VTIMEZONE
TZID:America/Los_Angeles
BEGIN:DAYLIGHT
TZOFFSETFROM:-0800
TZOFFSETTO:-0700
TZNAME:PDT
DTSTART:20220313T100000
END:DAYLIGHT
BEGIN:STANDARD
TZOFFSETFROM:-0700
TZOFFSETTO:-0800
TZNAME:PST
DTSTART:20221106T090000
END:STANDARD
BEGIN:DAYLIGHT
TZOFFSETFROM:-0800
TZOFFSETTO:-0700
TZNAME:PDT
DTSTART:20230312T100000
END:DAYLIGHT
BEGIN:STANDARD
TZOFFSETFROM:-0700
TZOFFSETTO:-0800
TZNAME:PST
DTSTART:20231105T090000
END:STANDARD
BEGIN:DAYLIGHT
TZOFFSETFROM:-0800
TZOFFSETTO:-0700
TZNAME:PDT
DTSTART:20240310T100000
END:DAYLIGHT
BEGIN:STANDARD
TZOFFSETFROM:-0700
TZOFFSETTO:-0800
TZNAME:PST
DTSTART:20241103T090000
END:STANDARD
END:VTIMEZONE
BEGIN:VEVENT
DTSTART;TZID=America/Los_Angeles:20231014T100000
DTEND;TZID=America/Los_Angeles:20231014T130000
DTSTAMP:20260424T091211
CREATED:20230912T233049Z
LAST-MODIFIED:20230912T235153Z
UID:9047-1697277600-1697288400@www.scdcorp.org
SUMMARY:Flower Crown Workshop
DESCRIPTION:
URL:https://www.scdcorp.org/event/flower-crown-workshop/
LOCATION:Bell Tech Center\, 4357 Gage Avenue\, Bell\, CA\, 90201\, United States
CATEGORIES:Workshops
ORGANIZER;CN="SCDC":MAILTO:info@scdcorp.org
END:VEVENT
BEGIN:VEVENT
DTSTART;TZID=America/Los_Angeles:20231007T100000
DTEND;TZID=America/Los_Angeles:20231007T140000
DTSTAMP:20260424T091211
CREATED:20230912T230247Z
LAST-MODIFIED:20230921T011024Z
UID:9034-1696672800-1696687200@www.scdcorp.org
SUMMARY:Radio Building Workshop
DESCRIPTION:Join us on our second session of Radio 101\, taught by Cesar Zaldazar-Motts!
URL:https://www.scdcorp.org/event/radio-building-workshop/
LOCATION:Bell Tech Center\, 4357 Gage Avenue\, Bell\, CA\, 90201\, United States
CATEGORIES:Workshops
ORGANIZER;CN="SCDC":MAILTO:info@scdcorp.org
END:VEVENT
BEGIN:VEVENT
DTSTART;TZID=America/Los_Angeles:20230926T153000
DTEND;TZID=America/Los_Angeles:20230926T183000
DTSTAMP:20260424T091211
CREATED:20230912T230143Z
LAST-MODIFIED:20230912T230143Z
UID:9032-1695742200-1695753000@www.scdcorp.org
SUMMARY:Walk-Ins for College Application Essays
DESCRIPTION:
URL:https://www.scdcorp.org/event/walk-ins-for-college-application-essays-2/
LOCATION:Bell Tech Center\, 4357 Gage Avenue\, Bell\, CA\, 90201\, United States
CATEGORIES:Workshops
ORGANIZER;CN="SELA Art Center":MAILTO:selaartcenter@gmail.com
END:VEVENT
BEGIN:VEVENT
DTSTART;TZID=America/Los_Angeles:20230923T120000
DTEND;TZID=America/Los_Angeles:20230923T150000
DTSTAMP:20260424T091211
CREATED:20230920T002349Z
LAST-MODIFIED:20230921T011529Z
UID:9112-1695470400-1695481200@www.scdcorp.org
SUMMARY:Walk-ins for College Application Essays
DESCRIPTION:
URL:https://www.scdcorp.org/event/walk-ins-for-college-application-essays-3/
LOCATION:Bell Tech Center\, 4357 Gage Avenue\, Bell\, CA\, 90201\, United States
CATEGORIES:Workshops
ORGANIZER;CN="SELA Art Center":MAILTO:selaartcenter@gmail.com
END:VEVENT
BEGIN:VEVENT
DTSTART;TZID=America/Los_Angeles:20230923T100000
DTEND;TZID=America/Los_Angeles:20230923T120000
DTSTAMP:20260424T091211
CREATED:20230912T220715Z
LAST-MODIFIED:20230914T002334Z
UID:9022-1695463200-1695470400@www.scdcorp.org
SUMMARY:AT&T Press Conference
DESCRIPTION:
URL:https://www.scdcorp.org/event/att-press-conference/
LOCATION:Bell Tech Center\, 4357 Gage Avenue\, Bell\, CA\, 90201\, United States
CATEGORIES:Press
END:VEVENT
BEGIN:VEVENT
DTSTART;TZID=America/Los_Angeles:20230912T153000
DTEND;TZID=America/Los_Angeles:20230912T183000
DTSTAMP:20260424T091211
CREATED:20230912T215031Z
LAST-MODIFIED:20230913T001014Z
UID:9019-1694532600-1694543400@www.scdcorp.org
SUMMARY:Walk-ins for College Application Essays
DESCRIPTION:This workshop is designed to empower and guide high school seniors through the college application essay process. No GPA requirements are necessary. Bring your own writing tools\, or we can provide computers. Join us and embark on your journey to college success! \nWorkshop Highlights: Decode essay prompts to understand what colleges are looking for. Craft authentic and impactful responses that reflect your individuality. Structure your ideas into compelling essay formats. Personalized guidance through brainstorming and editing processes. Get expert tips on highlighting what makes you truly unique. \nWalk-in sessions for 1-on-1 assistance to address your specific needs. Boost your confidence and conquer college application essay fears!
URL:https://www.scdcorp.org/event/walk-ins-for-college-application-essays/
LOCATION:Bell Tech Center\, 4357 Gage Avenue\, Bell\, CA\, 90201\, United States
CATEGORIES:Workshops
ORGANIZER;CN="SELA Art Center":MAILTO:selaartcenter@gmail.com
END:VEVENT
END:VCALENDAR