BEGIN:VCALENDAR
VERSION:2.0
PRODID:-//Southeast Community Development Corporation - ECPv6.15.20//NONSGML v1.0//EN
CALSCALE:GREGORIAN
METHOD:PUBLISH
X-WR-CALNAME:Southeast Community Development Corporation
X-ORIGINAL-URL:https://www.scdcorp.org
X-WR-CALDESC:Events for Southeast Community Development Corporation
REFRESH-INTERVAL;VALUE=DURATION:PT1H
X-Robots-Tag:noindex
X-PUBLISHED-TTL:PT1H
BEGIN:VTIMEZONE
TZID:America/Los_Angeles
BEGIN:DAYLIGHT
TZOFFSETFROM:-0800
TZOFFSETTO:-0700
TZNAME:PDT
DTSTART:20250309T100000
END:DAYLIGHT
BEGIN:STANDARD
TZOFFSETFROM:-0700
TZOFFSETTO:-0800
TZNAME:PST
DTSTART:20251102T090000
END:STANDARD
BEGIN:DAYLIGHT
TZOFFSETFROM:-0800
TZOFFSETTO:-0700
TZNAME:PDT
DTSTART:20260308T100000
END:DAYLIGHT
BEGIN:STANDARD
TZOFFSETFROM:-0700
TZOFFSETTO:-0800
TZNAME:PST
DTSTART:20261101T090000
END:STANDARD
BEGIN:DAYLIGHT
TZOFFSETFROM:-0800
TZOFFSETTO:-0700
TZNAME:PDT
DTSTART:20270314T100000
END:DAYLIGHT
BEGIN:STANDARD
TZOFFSETFROM:-0700
TZOFFSETTO:-0800
TZNAME:PST
DTSTART:20271107T090000
END:STANDARD
END:VTIMEZONE
BEGIN:VEVENT
DTSTART;TZID=America/Los_Angeles:20260418T100000
DTEND;TZID=America/Los_Angeles:20260418T140000
DTSTAMP:20260423T142519
CREATED:20260317T194618Z
LAST-MODIFIED:20260317T194734Z
UID:19990-1776506400-1776520800@www.scdcorp.org
SUMMARY:Electronics Merit Badge Workshop
DESCRIPTION:Ready to build\, solder\, and power up your inner engineer? \nIn this hands-on merit badge workshop\, Scouts will dive into the exciting world of electronics — from reading circuit diagrams to actually soldering their own components. We’ll decode resistor color bands\, explore how digital signals work\, and build a real electronic circuit from scratch. Sparks of curiosity welcome! \nScouts will also discover how electronics shape the world around us. From the audio systems in your headphones to digital circuits in computers\, from control devices in robotics to the test equipment used by engineers every day — understanding electronics means understanding the technology that powers modern life. \nSign Up Now! \n[Max 20 Scouts]
URL:https://www.scdcorp.org/event/electronics-merit-badge-workshop/
LOCATION:Bell Tech Center\, 4357 Gage Avenue\, Bell\, CA\, 90201\, United States
CATEGORIES:Workshops
END:VEVENT
BEGIN:VEVENT
DTSTART;VALUE=DATE:20260517
DTEND;VALUE=DATE:20260518
DTSTAMP:20260423T142519
CREATED:20260402T181531Z
LAST-MODIFIED:20260402T183126Z
UID:20207-1778976000-1779062399@www.scdcorp.org
SUMMARY:2026 FLL Spring Showdown
DESCRIPTION:Our young engineers are heading to competition! \nSCDC’s LEGO League Challenge Teams — CYBER-NAUT Stars & CYBER-NAUT Novas — will be competing in the 2026 SoCal Spring Showdown: Robotic Jones and the Temple of LEGO! \nThese amazing kids have worked so hard\, and now they need YOUR help to get there! Your support will go directly toward transportation and meals for our teams on competition day. Every contribution makes a difference! 💛
URL:https://www.scdcorp.org/event/2026-fll-spring-showdown/
LOCATION:Don Bosco Technical Institute\, 1151 San Gabriel Blvd\, Rosemead\, CA\, 91770\, United States
CATEGORIES:FIRST LEGO League,Robotics
END:VEVENT
BEGIN:VEVENT
DTSTART;TZID=America/Los_Angeles:20260530T100000
DTEND;TZID=America/Los_Angeles:20260530T140000
DTSTAMP:20260423T142519
CREATED:20260211T190249Z
LAST-MODIFIED:20260211T190249Z
UID:19891-1780135200-1780149600@www.scdcorp.org
SUMMARY:SELA Send-Off 2026
DESCRIPTION:Calling all SELA Seniors! This one’s for YOU! \nWe’re sending you off to college in style with a FREE community celebration just for high school seniors from SELA! Join us for our SELA College Sendoff on Saturday\, May 30th at the Leo P.Turner Community Center in Cudahy! \nA day filled with encouragement\, resources\, fun\, and connection as you prepare for your next big step! Parents are welcome\, too! Meet other families\, learn more about the college transition\, and get your questions answered. Translators will be available onsite. \nDon’t miss out — our annual T-shirts are and supplies are limited! Register now and help spread the word to all current SELA seniors! \nSign up now!
URL:https://www.scdcorp.org/event/sela-send-off-2026/
LOCATION:Leo P. Turner Community Center\, 4835 Clara Street\, Cudahy\, CA\, 90201\, United States
CATEGORIES:Community Update
END:VEVENT
BEGIN:VEVENT
DTSTART;VALUE=DATE:20260615
DTEND;VALUE=DATE:20260626
DTSTAMP:20260423T142519
CREATED:20260402T175622Z
LAST-MODIFIED:20260402T180031Z
UID:20201-1781481600-1782431999@www.scdcorp.org
SUMMARY:Summer Tech Camp Session 1 - BTC
DESCRIPTION:[No camp on Fridays & Weekends] \nAre you ready for Summer Camp?
URL:https://www.scdcorp.org/event/2026-summer-tech-camp-session-1-btc/
LOCATION:Bell Tech Center\, 4357 Gage Avenue\, Bell\, CA\, 90201\, United States
ORGANIZER;CN="SCDC":MAILTO:info@scdcorp.org
END:VEVENT
BEGIN:VEVENT
DTSTART;VALUE=DATE:20260706
DTEND;VALUE=DATE:20260717
DTSTAMP:20260423T142519
CREATED:20260402T180330Z
LAST-MODIFIED:20260402T180330Z
UID:20203-1783296000-1784246399@www.scdcorp.org
SUMMARY:Summer Tech Camp Session 2 – BTC
DESCRIPTION:[No camp on Fridays & Weekends] \nAre you ready for Summer Camp?
URL:https://www.scdcorp.org/event/2026-summer-tech-camp-session-2-btc/
LOCATION:Bell Tech Center\, 4357 Gage Avenue\, Bell\, CA\, 90201\, United States
ORGANIZER;CN="SCDC":MAILTO:info@scdcorp.org
END:VEVENT
BEGIN:VEVENT
DTSTART;VALUE=DATE:20260720
DTEND;VALUE=DATE:20260731
DTSTAMP:20260423T142519
CREATED:20260402T180745Z
LAST-MODIFIED:20260402T180745Z
UID:20205-1784505600-1785455999@www.scdcorp.org
SUMMARY:Summer Tech Camp Session 3 – BTC
DESCRIPTION:[No camp on Fridays & Weekends] \nAre you ready for Summer Camp?
URL:https://www.scdcorp.org/event/2026-summer-tech-camp-session-3-btc/
LOCATION:Bell Tech Center\, 4357 Gage Avenue\, Bell\, CA\, 90201\, United States
ORGANIZER;CN="SCDC":MAILTO:info@scdcorp.org
END:VEVENT
END:VCALENDAR