BEGIN:VCALENDAR
VERSION:2.0
PRODID:-//Southeast Community Development Corporation - ECPv6.15.20//NONSGML v1.0//EN
CALSCALE:GREGORIAN
METHOD:PUBLISH
X-WR-CALNAME:Southeast Community Development Corporation
X-ORIGINAL-URL:https://www.scdcorp.org
X-WR-CALDESC:Events for Southeast Community Development Corporation
REFRESH-INTERVAL;VALUE=DURATION:PT1H
X-Robots-Tag:noindex
X-PUBLISHED-TTL:PT1H
BEGIN:VTIMEZONE
TZID:America/Los_Angeles
BEGIN:DAYLIGHT
TZOFFSETFROM:-0800
TZOFFSETTO:-0700
TZNAME:PDT
DTSTART:20250309T100000
END:DAYLIGHT
BEGIN:STANDARD
TZOFFSETFROM:-0700
TZOFFSETTO:-0800
TZNAME:PST
DTSTART:20251102T090000
END:STANDARD
BEGIN:DAYLIGHT
TZOFFSETFROM:-0800
TZOFFSETTO:-0700
TZNAME:PDT
DTSTART:20260308T100000
END:DAYLIGHT
BEGIN:STANDARD
TZOFFSETFROM:-0700
TZOFFSETTO:-0800
TZNAME:PST
DTSTART:20261101T090000
END:STANDARD
BEGIN:DAYLIGHT
TZOFFSETFROM:-0800
TZOFFSETTO:-0700
TZNAME:PDT
DTSTART:20270314T100000
END:DAYLIGHT
BEGIN:STANDARD
TZOFFSETFROM:-0700
TZOFFSETTO:-0800
TZNAME:PST
DTSTART:20271107T090000
END:STANDARD
END:VTIMEZONE
BEGIN:VEVENT
DTSTART;TZID=America/Los_Angeles:20260304T120000
DTEND;TZID=America/Los_Angeles:20260304T130000
DTSTAMP:20260423T141212
CREATED:20260227T205930Z
LAST-MODIFIED:20260227T210021Z
UID:19936-1772625600-1772629200@www.scdcorp.org
SUMMARY:Financial Health Coaching for Impact Workshop with Chase
DESCRIPTION:In Spanish Only! \nEsta clase te ayudará a pensar como emprendedor y construir una base sólida para el crecimiento de tu negocio.  \nAprenderás a desarrollar agilidad y resiliencia\, a priorizar a las personas como parte clave del éxito y a mantener la motivación para seguir esforzándote y alcanzar tus metas. Ideal para quienes desean fortalecer su mentalidad y liderazgo empresarial. \nRegistrate Ahora
URL:https://www.scdcorp.org/event/financial-health-coaching-for-impact-workshop-03-04-2026/
LOCATION:Imperial Courts\, 2257 East 115th Street\, Los Angeles\, CA\, 90059\, United States
CATEGORIES:Workshops
END:VEVENT
END:VCALENDAR