BEGIN:VCALENDAR
VERSION:2.0
PRODID:-//Southeast Community Development Corporation - ECPv6.15.20//NONSGML v1.0//EN
CALSCALE:GREGORIAN
METHOD:PUBLISH
X-WR-CALNAME:Southeast Community Development Corporation
X-ORIGINAL-URL:https://www.scdcorp.org
X-WR-CALDESC:Events for Southeast Community Development Corporation
REFRESH-INTERVAL;VALUE=DURATION:PT1H
X-Robots-Tag:noindex
X-PUBLISHED-TTL:PT1H
BEGIN:VTIMEZONE
TZID:America/Los_Angeles
BEGIN:DAYLIGHT
TZOFFSETFROM:-0800
TZOFFSETTO:-0700
TZNAME:PDT
DTSTART:20250309T100000
END:DAYLIGHT
BEGIN:STANDARD
TZOFFSETFROM:-0700
TZOFFSETTO:-0800
TZNAME:PST
DTSTART:20251102T090000
END:STANDARD
BEGIN:DAYLIGHT
TZOFFSETFROM:-0800
TZOFFSETTO:-0700
TZNAME:PDT
DTSTART:20260308T100000
END:DAYLIGHT
BEGIN:STANDARD
TZOFFSETFROM:-0700
TZOFFSETTO:-0800
TZNAME:PST
DTSTART:20261101T090000
END:STANDARD
BEGIN:DAYLIGHT
TZOFFSETFROM:-0800
TZOFFSETTO:-0700
TZNAME:PDT
DTSTART:20270314T100000
END:DAYLIGHT
BEGIN:STANDARD
TZOFFSETFROM:-0700
TZOFFSETTO:-0800
TZNAME:PST
DTSTART:20271107T090000
END:STANDARD
END:VTIMEZONE
BEGIN:VEVENT
DTSTART;TZID=America/Los_Angeles:20260214T090000
DTEND;TZID=America/Los_Angeles:20260214T110000
DTSTAMP:20260423T153032
CREATED:20260127T202725Z
LAST-MODIFIED:20260127T205832Z
UID:19858-1771059600-1771066800@www.scdcorp.org
SUMMARY:Adult Digital Literacy - Basic Computer Skills Day 1
DESCRIPTION:[TAUGHT IN ENGLISH & SPANISH] \nThis course is perfect for adults with little or no computer experience! You’ll learn how to turn on a computer\, use a mouse\, type\, search the web\, and manage your online safety and privacy. We’ll also cover downloading apps\, creating online accounts\, checking bank balances\, and connecting on social media. Your smartphone will be part of the hands-on learning experience. \nSign up now—or enroll someone you know—and help build digital confidence today!
URL:https://www.scdcorp.org/event/hacla-adult-digital-literacy-2-14-2026/
LOCATION:Imperial Courts\, 2257 East 115th Street\, Los Angeles\, CA\, 90059\, United States
CATEGORIES:Workshops
ORGANIZER;CN="SCDC":MAILTO:info@scdcorp.org
END:VEVENT
BEGIN:VEVENT
DTSTART;TZID=America/Los_Angeles:20260214T113000
DTEND;TZID=America/Los_Angeles:20260214T133000
DTSTAMP:20260423T153032
CREATED:20260127T204947Z
LAST-MODIFIED:20260127T205836Z
UID:19868-1771068600-1771075800@www.scdcorp.org
SUMMARY:Adult Digital Literacy - The Entrepreneur in Every Parent Day 1
DESCRIPTION:[TAUGHT IN ENGLISH & SPANISH] \nParents will learn how to create a business plan\, research competitors\, and apply basic marketing strategies. The course also covers social media\, resources from the Small Business Administration\, and financial projections. Participants will learn how to build practical skills similar to those taught community college courses\, such as marketing\, bookkeeping\, and accounting. \nSign up now—or enroll someone you know—and start growing your business skills today!
URL:https://www.scdcorp.org/event/hacla-adult-digital-literacy-2-14-2026-2/
LOCATION:Nickerson Gardens\, 1450 E 114th Street BLDG #5\, Los Angeles\, CA\, 90059\, United States
CATEGORIES:Workshops
END:VEVENT
END:VCALENDAR