BEGIN:VCALENDAR
VERSION:2.0
PRODID:-//Southeast Community Development Corporation - ECPv6.15.20//NONSGML v1.0//EN
CALSCALE:GREGORIAN
METHOD:PUBLISH
X-ORIGINAL-URL:https://www.scdcorp.org
X-WR-CALDESC:Events for Southeast Community Development Corporation
REFRESH-INTERVAL;VALUE=DURATION:PT1H
X-Robots-Tag:noindex
X-PUBLISHED-TTL:PT1H
BEGIN:VTIMEZONE
TZID:America/Los_Angeles
BEGIN:DAYLIGHT
TZOFFSETFROM:-0800
TZOFFSETTO:-0700
TZNAME:PDT
DTSTART:20250309T100000
END:DAYLIGHT
BEGIN:STANDARD
TZOFFSETFROM:-0700
TZOFFSETTO:-0800
TZNAME:PST
DTSTART:20251102T090000
END:STANDARD
BEGIN:DAYLIGHT
TZOFFSETFROM:-0800
TZOFFSETTO:-0700
TZNAME:PDT
DTSTART:20260308T100000
END:DAYLIGHT
BEGIN:STANDARD
TZOFFSETFROM:-0700
TZOFFSETTO:-0800
TZNAME:PST
DTSTART:20261101T090000
END:STANDARD
BEGIN:DAYLIGHT
TZOFFSETFROM:-0800
TZOFFSETTO:-0700
TZNAME:PDT
DTSTART:20270314T100000
END:DAYLIGHT
BEGIN:STANDARD
TZOFFSETFROM:-0700
TZOFFSETTO:-0800
TZNAME:PST
DTSTART:20271107T090000
END:STANDARD
END:VTIMEZONE
BEGIN:VEVENT
DTSTART;TZID=America/Los_Angeles:20260117T080000
DTEND;TZID=America/Los_Angeles:20260117T130000
DTSTAMP:20260423T153033
CREATED:20260127T195152Z
LAST-MODIFIED:20260127T195212Z
UID:19842-1768636800-1768654800@www.scdcorp.org
SUMMARY:FTC Meet 3
DESCRIPTION:❄️ #24176 CYBER-NAUTS are kicking off the new year at Meet 3 of the season! After months of designing\, coding\, and testing\, it’s time for our robot to take the field once again. This meet is especially important—it’s our last chance to fine-tune strategies\, test improvements\, and gain momentum before the big tournament. \nYour support helps us build stronger robots—and even stronger futures. Every donation keeps us moving forward\, literally. \n💙 Donate Here to fuel our FTC journey!
URL:https://www.scdcorp.org/event/ftc-meet-1-17-2026/
LOCATION:CAMS\, 1000 E Victoria St\, Carson\, CA\, 90747\, United States
CATEGORIES:Robotics,Workshops
END:VEVENT
BEGIN:VEVENT
DTSTART;TZID=America/Los_Angeles:20260124T100000
DTEND;TZID=America/Los_Angeles:20260124T140000
DTSTAMP:20260423T153033
CREATED:20260127T193901Z
LAST-MODIFIED:20260127T200150Z
UID:19837-1769248800-1769263200@www.scdcorp.org
SUMMARY:Junior Radio Academy - Introduction to Electronics
DESCRIPTION:Step into the world of electricity! \nDiscover how electricity works and why circuits light up\, buzz\, and move. Learn about the important parts of a circuit like wires\, batteries\, and switches—and how they all work together. Then\, put your new knowledge into action by building your very own project using the Elenco Snap-On Circuit Kit. It’s hands-on\, fun\, and a great way to see science in action! \n✨ Sign up now and start your electronics adventure!
URL:https://www.scdcorp.org/event/junior-radio-academy-1-24-2026/
LOCATION:Bell Tech Center\, 4357 Gage Avenue\, Bell\, CA\, 90201\, United States
CATEGORIES:Workshops
END:VEVENT
BEGIN:VEVENT
DTSTART;TZID=America/Los_Angeles:20260131T100000
DTEND;TZID=America/Los_Angeles:20260131T140000
DTSTAMP:20260423T153033
CREATED:20260127T200159Z
LAST-MODIFIED:20260127T200252Z
UID:19844-1769853600-1769868000@www.scdcorp.org
SUMMARY:Junior Radio Academy – Electronics Project
DESCRIPTION:Take your circuits to the next level! \nNow that you know the basics\, it’s time to explore more electronic components (resistors\, diodes\, and capacitors) and learn how they make circuits do even cooler things. Build complex\, exciting projects that really challenge your skills and creativity. Each project is a chance to experiment\, tinker\, and discover the “why” behind the magic! \n✨ Sign up now and start your electronics adventure!
URL:https://www.scdcorp.org/event/junior-radio-academy-1-31-26/
LOCATION:Bell Tech Center\, 4357 Gage Avenue\, Bell\, CA\, 90201\, United States
CATEGORIES:Workshops
END:VEVENT
END:VCALENDAR