BEGIN:VCALENDAR
VERSION:2.0
PRODID:-//Southeast Community Development Corporation - ECPv6.15.20//NONSGML v1.0//EN
CALSCALE:GREGORIAN
METHOD:PUBLISH
X-WR-CALNAME:Southeast Community Development Corporation
X-ORIGINAL-URL:https://www.scdcorp.org
X-WR-CALDESC:Events for Southeast Community Development Corporation
REFRESH-INTERVAL;VALUE=DURATION:PT1H
X-Robots-Tag:noindex
X-PUBLISHED-TTL:PT1H
BEGIN:VTIMEZONE
TZID:America/Los_Angeles
BEGIN:DAYLIGHT
TZOFFSETFROM:-0800
TZOFFSETTO:-0700
TZNAME:PDT
DTSTART:20220313T100000
END:DAYLIGHT
BEGIN:STANDARD
TZOFFSETFROM:-0700
TZOFFSETTO:-0800
TZNAME:PST
DTSTART:20221106T090000
END:STANDARD
BEGIN:DAYLIGHT
TZOFFSETFROM:-0800
TZOFFSETTO:-0700
TZNAME:PDT
DTSTART:20230312T100000
END:DAYLIGHT
BEGIN:STANDARD
TZOFFSETFROM:-0700
TZOFFSETTO:-0800
TZNAME:PST
DTSTART:20231105T090000
END:STANDARD
BEGIN:DAYLIGHT
TZOFFSETFROM:-0800
TZOFFSETTO:-0700
TZNAME:PDT
DTSTART:20240310T100000
END:DAYLIGHT
BEGIN:STANDARD
TZOFFSETFROM:-0700
TZOFFSETTO:-0800
TZNAME:PST
DTSTART:20241103T090000
END:STANDARD
END:VTIMEZONE
BEGIN:VEVENT
DTSTART;TZID=America/Los_Angeles:20231007T100000
DTEND;TZID=America/Los_Angeles:20231007T140000
DTSTAMP:20260425T064159
CREATED:20230912T230247Z
LAST-MODIFIED:20230921T011024Z
UID:9034-1696672800-1696687200@www.scdcorp.org
SUMMARY:Radio Building Workshop
DESCRIPTION:Join us on our second session of Radio 101\, taught by Cesar Zaldazar-Motts!
URL:https://www.scdcorp.org/event/radio-building-workshop/
LOCATION:Bell Tech Center\, 4357 Gage Avenue\, Bell\, CA\, 90201\, United States
CATEGORIES:Workshops
ORGANIZER;CN="SCDC":MAILTO:info@scdcorp.org
END:VEVENT
BEGIN:VEVENT
DTSTART;TZID=America/Los_Angeles:20231014T100000
DTEND;TZID=America/Los_Angeles:20231014T130000
DTSTAMP:20260425T064159
CREATED:20230912T233049Z
LAST-MODIFIED:20230912T235153Z
UID:9047-1697277600-1697288400@www.scdcorp.org
SUMMARY:Flower Crown Workshop
DESCRIPTION:
URL:https://www.scdcorp.org/event/flower-crown-workshop/
LOCATION:Bell Tech Center\, 4357 Gage Avenue\, Bell\, CA\, 90201\, United States
CATEGORIES:Workshops
ORGANIZER;CN="SCDC":MAILTO:info@scdcorp.org
END:VEVENT
BEGIN:VEVENT
DTSTART;TZID=America/Los_Angeles:20231021T100000
DTEND;TZID=America/Los_Angeles:20231021T120000
DTSTAMP:20260425T064159
CREATED:20230912T233629Z
LAST-MODIFIED:20230912T235318Z
UID:9052-1697882400-1697889600@www.scdcorp.org
SUMMARY:Shirt Screenprinting Workshop
DESCRIPTION:
URL:https://www.scdcorp.org/event/shirt-screenprinting-workshop/
LOCATION:Bell Tech Center\, 4357 Gage Avenue\, Bell\, CA\, 90201\, United States
CATEGORIES:Community Event,Workshops
ORGANIZER;CN="SCDC":MAILTO:info@scdcorp.org
END:VEVENT
END:VCALENDAR