BEGIN:VCALENDAR
VERSION:2.0
PRODID:-//Southeast Community Development Corporation - ECPv6.15.20//NONSGML v1.0//EN
CALSCALE:GREGORIAN
METHOD:PUBLISH
X-WR-CALNAME:Southeast Community Development Corporation
X-ORIGINAL-URL:https://www.scdcorp.org
X-WR-CALDESC:Events for Southeast Community Development Corporation
REFRESH-INTERVAL;VALUE=DURATION:PT1H
X-Robots-Tag:noindex
X-PUBLISHED-TTL:PT1H
BEGIN:VTIMEZONE
TZID:America/Los_Angeles
BEGIN:DAYLIGHT
TZOFFSETFROM:-0800
TZOFFSETTO:-0700
TZNAME:PDT
DTSTART:20220313T100000
END:DAYLIGHT
BEGIN:STANDARD
TZOFFSETFROM:-0700
TZOFFSETTO:-0800
TZNAME:PST
DTSTART:20221106T090000
END:STANDARD
BEGIN:DAYLIGHT
TZOFFSETFROM:-0800
TZOFFSETTO:-0700
TZNAME:PDT
DTSTART:20230312T100000
END:DAYLIGHT
BEGIN:STANDARD
TZOFFSETFROM:-0700
TZOFFSETTO:-0800
TZNAME:PST
DTSTART:20231105T090000
END:STANDARD
BEGIN:DAYLIGHT
TZOFFSETFROM:-0800
TZOFFSETTO:-0700
TZNAME:PDT
DTSTART:20240310T100000
END:DAYLIGHT
BEGIN:STANDARD
TZOFFSETFROM:-0700
TZOFFSETTO:-0800
TZNAME:PST
DTSTART:20241103T090000
END:STANDARD
BEGIN:DAYLIGHT
TZOFFSETFROM:-0800
TZOFFSETTO:-0700
TZNAME:PDT
DTSTART:20250309T100000
END:DAYLIGHT
BEGIN:STANDARD
TZOFFSETFROM:-0700
TZOFFSETTO:-0800
TZNAME:PST
DTSTART:20251102T090000
END:STANDARD
BEGIN:DAYLIGHT
TZOFFSETFROM:-0800
TZOFFSETTO:-0700
TZNAME:PDT
DTSTART:20260308T100000
END:DAYLIGHT
BEGIN:STANDARD
TZOFFSETFROM:-0700
TZOFFSETTO:-0800
TZNAME:PST
DTSTART:20261101T090000
END:STANDARD
BEGIN:DAYLIGHT
TZOFFSETFROM:-0800
TZOFFSETTO:-0700
TZNAME:PDT
DTSTART:20270314T100000
END:DAYLIGHT
BEGIN:STANDARD
TZOFFSETFROM:-0700
TZOFFSETTO:-0800
TZNAME:PST
DTSTART:20271107T090000
END:STANDARD
END:VTIMEZONE
BEGIN:VEVENT
DTSTART;TZID=America/Los_Angeles:20260125T070000
DTEND;TZID=America/Los_Angeles:20260125T173000
DTSTAMP:20260423T141640
CREATED:20260127T194659Z
LAST-MODIFIED:20260127T194734Z
UID:19839-1769324400-1769362200@www.scdcorp.org
SUMMARY:FTC Inter-League Tournament #2
DESCRIPTION:🚀 The CYBER-NAUTS are headed to Diamond Bar!Our team is gearing up for the Inter-League Tournament\, where Leagues A (Los Angeles) and G (Carson) come together for an exciting day of competition. We’ll be going head-to-head with 29 talented teams\, putting our robot\, strategy\, and teamwork to the test. \nThis tournament is a huge opportunity as we battle for a spot at SoCal’s Championship! From quick fixes in the pits to intense matches on the field\, we’re ready to compete hard\, learn fast\, and have a ton of fun along the way. \n💙  Donate Here to support the CYBER-NAUTS and cheer us on as we chase the championship! 
URL:https://www.scdcorp.org/event/ftc-inter-league-tournament-2-25-2026/
LOCATION:Diamond Bar High School\, 21400 Pathfinder Rd\, Diamond Bar\, CA\, 91765\, United States
CATEGORIES:FIRST TECH Challenge,Robotics
END:VEVENT
BEGIN:VEVENT
DTSTART;TZID=America/Los_Angeles:20260117T080000
DTEND;TZID=America/Los_Angeles:20260117T130000
DTSTAMP:20260423T141640
CREATED:20260127T195152Z
LAST-MODIFIED:20260127T195212Z
UID:19842-1768636800-1768654800@www.scdcorp.org
SUMMARY:FTC Meet 3
DESCRIPTION:❄️ #24176 CYBER-NAUTS are kicking off the new year at Meet 3 of the season! After months of designing\, coding\, and testing\, it’s time for our robot to take the field once again. This meet is especially important—it’s our last chance to fine-tune strategies\, test improvements\, and gain momentum before the big tournament. \nYour support helps us build stronger robots—and even stronger futures. Every donation keeps us moving forward\, literally. \n💙 Donate Here to fuel our FTC journey!
URL:https://www.scdcorp.org/event/ftc-meet-1-17-2026/
LOCATION:CAMS\, 1000 E Victoria St\, Carson\, CA\, 90747\, United States
CATEGORIES:Robotics,Workshops
END:VEVENT
BEGIN:VEVENT
DTSTART;TZID=America/Los_Angeles:20251213T080000
DTEND;TZID=America/Los_Angeles:20251213T120000
DTSTAMP:20260423T141640
CREATED:20260127T185456Z
LAST-MODIFIED:20260127T185456Z
UID:19828-1765612800-1765627200@www.scdcorp.org
SUMMARY:FTC Meet 2
DESCRIPTION:#24176 CYBER-NAUTS are sleigh-ing into Meet 2 of the season! All our designing\, coding\, and testing have been wrapped up\, and now it’s time for our robot to make its merry debut on the field. We’ll be competing\, learning\, and having a holly-jolly time as we tackle real engineering challenges and team up with others who share our passion for robotics and innovation. \nYour support helps us build stronger bots and even stronger futures. Every donation keeps us moving forward—literally! \n💙 Donate Here to fuel our FTC journey!
URL:https://www.scdcorp.org/event/ftc-meet-12-13-2025/
LOCATION:CAMS\, 1000 E Victoria St\, Carson\, CA\, 90747\, United States
CATEGORIES:FIRST TECH Challenge,Robotics
END:VEVENT
BEGIN:VEVENT
DTSTART;TZID=America/Los_Angeles:20251115T080000
DTEND;TZID=America/Los_Angeles:20251115T120000
DTSTAMP:20260423T141640
CREATED:20251029T195805Z
LAST-MODIFIED:20260127T185511Z
UID:19700-1763193600-1763208000@www.scdcorp.org
SUMMARY:FTC Meet 1
DESCRIPTION:#24176 CYBER-NAUTS is revved up and ready to roll into Meet 1 of the season! This is where all the designing\, coding\, and testing come to life as our robot hits the field for the first time. We’ll be competing\, learning\, and having a blast as we take on real engineering challenges and team up with others who share our love for robotics and innovation. Your support helps us build stronger bots and even stronger futures. Every donation keeps us moving forward—literally! 💙 Donate Here to fuel our FTC journey!
URL:https://www.scdcorp.org/event/ftc-meet-11-15-2025/
LOCATION:CAMS\, 1000 E Victoria St\, Carson\, CA\, 90747\, United States
CATEGORIES:FIRST TECH Challenge,Robotics
ORGANIZER;CN="CYBER-NAUTS Robotics Team":MAILTO:cybernauts@scdcorp.org
END:VEVENT
BEGIN:VEVENT
DTSTART;TZID=America/Los_Angeles:20251102T080000
DTEND;TZID=America/Los_Angeles:20251102T153000
DTSTAMP:20260423T141640
CREATED:20251029T195058Z
LAST-MODIFIED:20251029T195058Z
UID:19697-1762070400-1762097400@www.scdcorp.org
SUMMARY:2025 FIRST LEGO LEAGUE Challenge Qualifiers Tournament
DESCRIPTION:Get ready for some serious fun and friendly competition! Our two amazing robotics teams\, #39853 CYBERNAUT Novas & #45360 CYBERNAUT Stars\, are gearing up for the 2025 FIRST LEGO League Challenge Qualifiers\, where creativity\, coding\, and teamwork come together in one awesome event. They’ll be putting their LEGO robots to the test\, tackling exciting challenges\, and showing off all their hard work! \nWe couldn’t do it without our incredible supporters—you! Every donation helps us get our teams to the tournament and keep building toward success. \n💙 Donate Here to power up our teams!
URL:https://www.scdcorp.org/event/2025-first-lego-league-challenge-qualifiers-tournament/
LOCATION:The Center for Early Education\, 563 N Alfred Street\, West Hollywood\, CA\, 90048\, United States
CATEGORIES:FIRST LEGO League,Robotics
END:VEVENT
BEGIN:VEVENT
DTSTART;TZID=America/Los_Angeles:20250503T080000
DTEND;TZID=America/Los_Angeles:20250503T163000
DTSTAMP:20260423T141640
CREATED:20250429T172725Z
LAST-MODIFIED:20250429T203858Z
UID:19408-1746259200-1746289800@www.scdcorp.org
SUMMARY:2025 FLL Spring Showdown
DESCRIPTION:SCDC’s LEGO League Challenge Team CYBER-NAUT Stars will be participating in the 2025 SoCal Spring Showdown: Finding Roboto. \nTheir competition lands on Saturday\, May 3rd in Rosemead\, CA.  \nHelp cover the team’s transportation and meals for competition! \nDonate Now
URL:https://www.scdcorp.org/event/2025-fll-spring-showdown/
LOCATION:Don Bosco Technical Institute\, 1151 San Gabriel Blvd\, Rosemead\, CA\, 91770\, United States
CATEGORIES:FIRST LEGO League,Robotics
END:VEVENT
BEGIN:VEVENT
DTSTART;TZID=America/Los_Angeles:20241116T073000
DTEND;TZID=America/Los_Angeles:20241116T123000
DTSTAMP:20260423T141640
CREATED:20241001T174916Z
LAST-MODIFIED:20241001T174916Z
UID:10190-1731742200-1731760200@www.scdcorp.org
SUMMARY:FTC Meet 1
DESCRIPTION:Help support our FTC team\, the CYBER-NAUTS\, on their 1st official meet of the year! \nFeel free to drop off snacks or drinks the day before for their event. \nIf you’d like to volunteer during these competitions\, feel free to send us an email!
URL:https://www.scdcorp.org/event/ftc-meet-1-11-16-2024/
LOCATION:CA
CATEGORIES:FIRST TECH Challenge,Robotics
ORGANIZER;CN="CYBER-NAUTS Robotics Team":MAILTO:cybernauts@scdcorp.org
END:VEVENT
BEGIN:VEVENT
DTSTART;VALUE=DATE:20241102
DTEND;VALUE=DATE:20241103
DTSTAMP:20260423T141640
CREATED:20241001T175031Z
LAST-MODIFIED:20241001T175744Z
UID:10192-1730505600-1730591999@www.scdcorp.org
SUMMARY:FLL Season Qualifiers
DESCRIPTION:SCDC’s LEGO League Challenge Team\, the CYBER-NAUTS Stars\, will be participating in the 2024 SoCal Season Qualifiers. \nTheir competition lands on Saturday\, November 2nd in El Segundo. \nDonate and help cover the team’s transportation and meals for competition\, we accept snack donations at the Bell Tech Center! \n> Donate Now
URL:https://www.scdcorp.org/event/fll-season-qualifiers-11-02-2024/
LOCATION:Da Vinci Science High School\, 201 N. Douglas Street\, El Segundo\, CA\, 90245\, United States
CATEGORIES:FIRST LEGO League,Robotics
END:VEVENT
BEGIN:VEVENT
DTSTART;TZID=America/Los_Angeles:20240427T070000
DTEND;TZID=America/Los_Angeles:20240427T170000
DTSTAMP:20260423T141640
CREATED:20240327T220553Z
LAST-MODIFIED:20240327T220645Z
UID:9579-1714201200-1714237200@www.scdcorp.org
SUMMARY:2024 FLL Spring Showdown
DESCRIPTION:SCDC’s LEGO League Challenge Teams Spider-Bytes and Corrupted Owls will be participating in the 2024 SoCal Spring Showdown: Robot in the High Seas. \nTheir competition lands on Saturday\, April 27th in Burbank\, CA.  \nDonate and help cover the team’s transportation and meals for competition! \n			\n				DONATE NOW
URL:https://www.scdcorp.org/event/2024-fll-spring-showdown/
LOCATION:Woodbury University\, 7500 N Glenoaks Blvd\, Burbank\, CA\, 91504\, United States
CATEGORIES:FIRST LEGO League,Robotics
END:VEVENT
BEGIN:VEVENT
DTSTART;TZID=America/Los_Angeles:20240224T070000
DTEND;TZID=America/Los_Angeles:20240224T170000
DTSTAMP:20260423T141640
CREATED:20231212T211055Z
LAST-MODIFIED:20240226T230248Z
UID:9305-1708758000-1708794000@www.scdcorp.org
SUMMARY:FTC Inter-League Tournament
DESCRIPTION:The CYBER-NAUTS are going to Fountain Valley for their Inter-League Tournament for Leagues G (CARSON) and O2 (Fountain Valley). \nSupport our rookie team as they go against 21 teams for a spot in SoCal’s Championship!!!
URL:https://www.scdcorp.org/event/2023-ftc-inter-league-tournament/
LOCATION:Fountain Valley High School\, 17816 Bushard St\, Fountain Valley\, CA\, 92708\, United States
CATEGORIES:FIRST TECH Challenge,Robotics
END:VEVENT
BEGIN:VEVENT
DTSTART;TZID=America/Los_Angeles:20240217T080000
DTEND;TZID=America/Los_Angeles:20240217T170000
DTSTAMP:20260423T141640
CREATED:20240205T204659Z
LAST-MODIFIED:20240205T204659Z
UID:9464-1708156800-1708189200@www.scdcorp.org
SUMMARY:FTC Scrimmage
DESCRIPTION:
URL:https://www.scdcorp.org/event/2023-ftc-scrimmage-feb-17-2024/
LOCATION:CAMS\, 1000 E Victoria St\, Carson\, CA\, 90747\, United States
CATEGORIES:FIRST TECH Challenge,Robotics
END:VEVENT
BEGIN:VEVENT
DTSTART;TZID=America/Los_Angeles:20231216T080000
DTEND;TZID=America/Los_Angeles:20231216T120000
DTSTAMP:20260423T141640
CREATED:20231112T184953Z
LAST-MODIFIED:20231212T190001Z
UID:9296-1702713600-1702728000@www.scdcorp.org
SUMMARY:FTC Robotics Meet 3
DESCRIPTION:Support our FTC team\, the CYBER-NAUTS\, on their last robotics meet of the year! \nFeel free to drop off snacks or drinks the day before for their event. \nIf you’d like to volunteer during these competitions\, feel free to send us an email!
URL:https://www.scdcorp.org/event/2023-ftc-robotics-meet-3/
LOCATION:CA
CATEGORIES:FIRST TECH Challenge,Robotics
END:VEVENT
END:VCALENDAR