BEGIN:VCALENDAR
VERSION:2.0
PRODID:-//Southeast Community Development Corporation - ECPv6.15.20//NONSGML v1.0//EN
CALSCALE:GREGORIAN
METHOD:PUBLISH
X-WR-CALNAME:Southeast Community Development Corporation
X-ORIGINAL-URL:https://www.scdcorp.org
X-WR-CALDESC:Events for Southeast Community Development Corporation
REFRESH-INTERVAL;VALUE=DURATION:PT1H
X-Robots-Tag:noindex
X-PUBLISHED-TTL:PT1H
BEGIN:VTIMEZONE
TZID:America/Los_Angeles
BEGIN:DAYLIGHT
TZOFFSETFROM:-0800
TZOFFSETTO:-0700
TZNAME:PDT
DTSTART:20220313T100000
END:DAYLIGHT
BEGIN:STANDARD
TZOFFSETFROM:-0700
TZOFFSETTO:-0800
TZNAME:PST
DTSTART:20221106T090000
END:STANDARD
BEGIN:DAYLIGHT
TZOFFSETFROM:-0800
TZOFFSETTO:-0700
TZNAME:PDT
DTSTART:20230312T100000
END:DAYLIGHT
BEGIN:STANDARD
TZOFFSETFROM:-0700
TZOFFSETTO:-0800
TZNAME:PST
DTSTART:20231105T090000
END:STANDARD
BEGIN:DAYLIGHT
TZOFFSETFROM:-0800
TZOFFSETTO:-0700
TZNAME:PDT
DTSTART:20240310T100000
END:DAYLIGHT
BEGIN:STANDARD
TZOFFSETFROM:-0700
TZOFFSETTO:-0800
TZNAME:PST
DTSTART:20241103T090000
END:STANDARD
BEGIN:DAYLIGHT
TZOFFSETFROM:-0800
TZOFFSETTO:-0700
TZNAME:PDT
DTSTART:20250309T100000
END:DAYLIGHT
BEGIN:STANDARD
TZOFFSETFROM:-0700
TZOFFSETTO:-0800
TZNAME:PST
DTSTART:20251102T090000
END:STANDARD
BEGIN:DAYLIGHT
TZOFFSETFROM:-0800
TZOFFSETTO:-0700
TZNAME:PDT
DTSTART:20260308T100000
END:DAYLIGHT
BEGIN:STANDARD
TZOFFSETFROM:-0700
TZOFFSETTO:-0800
TZNAME:PST
DTSTART:20261101T090000
END:STANDARD
END:VTIMEZONE
BEGIN:VEVENT
DTSTART;TZID=America/Los_Angeles:20250225T180000
DTEND;TZID=America/Los_Angeles:20250225T193000
DTSTAMP:20260423T130122
CREATED:20250214T190301Z
LAST-MODIFIED:20250214T194129Z
UID:18941-1740506400-1740511800@www.scdcorp.org
SUMMARY:Metro Rail to River Meeting #1 (In-Person)
DESCRIPTION:Metro has a plan to make it easier to get around LA County\, including streets that are safer for everyone. Metro wants your input to improve bicycle and pedestrian connections between the A Line Slauson Station and the LA River. \nJoin us at a community meeting to receive project updates\, including improvements being planned along Randolph St\, in collaboration with the local jurisdictions and the Randolph Corridor Active Transportation project\, as well as the opportunity to ask questions and provide feedback. \nThis meeting will have a Kids’ Corner with fun activities. \nThe same information will be presented at each meeting. Free onsite parking and Spanish interpreters will be available. \nFor complete project information\, please visit www.metro.net/projects/r2rb.
URL:https://www.scdcorp.org/event/metro-rail-to-river-meeting-1-in-person/
LOCATION:Newstart Event Center\, 3355 E Gage Ave\, Huntington Park\, CA\, 90255\, United States
CATEGORIES:Community Event
END:VEVENT
BEGIN:VEVENT
DTSTART;TZID=America/Los_Angeles:20241207T100000
DTEND;TZID=America/Los_Angeles:20241207T140000
DTSTAMP:20260423T130122
CREATED:20241121T213135Z
LAST-MODIFIED:20241121T213256Z
UID:10284-1733565600-1733580000@www.scdcorp.org
SUMMARY:Holiday Stocking Decoration Workshop
DESCRIPTION:The holiday season is fast approaching\, and what better way to get into the festive spirit than by creating your very own custom holiday stockings! We are excited to invite you to our Holiday Stocking Decoration Workshop\, where you can get creative and craft a beautiful stocking for yourself or as a thoughtful gift. \nWhat to Expect: \n\nCustom Stockings: Start with a plain stocking that’s ready to be personalized with your choice of colors\, patterns\, and embellishments.\nCreative Materials: Access a wide range of festive decorating materials\, including glitter\, sequins\, fabric paints\, ribbons\, beads\, stencils\, and more!\nExpert Guidance: Our experienced instructors will be there to offer helpful tips and inspire your creativity\, whether you’re a crafting pro or a first-timer.\nHoliday Cheer: Enjoy a cozy\, festive atmosphere with holiday music\, light refreshments\, and the chance to meet other holiday enthusiasts.\n\nRSVP NOW!
URL:https://www.scdcorp.org/event/holiday-stocking-decoration-workshop/
LOCATION:Bell Tech Center\, 4357 Gage Avenue\, Bell\, CA\, 90201\, United States
CATEGORIES:Community Event
ORGANIZER;CN="SCDC":MAILTO:info@scdcorp.org
END:VEVENT
BEGIN:VEVENT
DTSTART;VALUE=DATE:20241105
DTEND;VALUE=DATE:20241106
DTSTAMP:20260423T130122
CREATED:20241105T190812Z
LAST-MODIFIED:20241105T191805Z
UID:10251-1730764800-1730851199@www.scdcorp.org
SUMMARY:Election Day
DESCRIPTION:🗳️ It’s Election Day! 🗳️ \nToday is your chance to make your voice heard! Whether you’re voting for the first time or the hundredth\, your vote matters. 🌟 \n✔️ Don’t forget to check your polling place ✔️ Bring your ID if needed ✔️ Encourage others to vote too! \nLet’s all do our part!
URL:https://www.scdcorp.org/event/election-day/
LOCATION:CA
CATEGORIES:Community Event
ORGANIZER;CN="SCDC":MAILTO:info@scdcorp.org
END:VEVENT
BEGIN:VEVENT
DTSTART;TZID=America/Los_Angeles:20241026T180000
DTEND;TZID=America/Los_Angeles:20241026T210000
DTSTAMP:20260423T130122
CREATED:20241001T174641Z
LAST-MODIFIED:20241001T174641Z
UID:10183-1729965600-1729976400@www.scdcorp.org
SUMMARY:City of Bell Halloween Carnival
DESCRIPTION:We are excited to invite you to the City of Bell’s annual Halloween Carnival! \nJoin us on Saturday\, October 26th\, at the Bell Community Center from 6:00 PM to 9:00 PM for a night full of spooky fun\, games\, costume contests\, and delicious candy. \nGet ready for a thrilling adventure and make sure to stop by the Trunk or Treat area\, brought to you by us!
URL:https://www.scdcorp.org/event/city-of-bell-halloween-carnival/
LOCATION:Bell Community Center\, 6250 Pine Ave\, Bell\, CA\, 90201\, United States
CATEGORIES:Community Event
ORGANIZER;CN="SCDC":MAILTO:info@scdcorp.org
END:VEVENT
BEGIN:VEVENT
DTSTART;TZID=America/Los_Angeles:20240807T170000
DTEND;TZID=America/Los_Angeles:20240807T190000
DTSTAMP:20260423T130122
CREATED:20240801T170655Z
LAST-MODIFIED:20240801T170655Z
UID:9875-1723050000-1723057200@www.scdcorp.org
SUMMARY:2024 Summer Tech Camp Student Showcase
DESCRIPTION:
URL:https://www.scdcorp.org/event/2024-summer-tech-camp-student-showcase/
LOCATION:Bell Tech Center\, 4357 Gage Avenue\, Bell\, CA\, 90201\, United States
CATEGORIES:Community Event
ORGANIZER;CN="SCDC":MAILTO:info@scdcorp.org
END:VEVENT
BEGIN:VEVENT
DTSTART;TZID=America/Los_Angeles:20240629T100000
DTEND;TZID=America/Los_Angeles:20240629T140000
DTSTAMP:20260423T130122
CREATED:20240611T013114Z
LAST-MODIFIED:20240611T013114Z
UID:9846-1719655200-1719669600@www.scdcorp.org
SUMMARY:Recycling is Rewarding: Bell Filter Exchange Event!
DESCRIPTION:FREE OIL FILTER IN EXCHANGE FOR YOUR USED OIL FILTER. \nJoin us for a sustainable and rewarding experience at the Filter Exchange Event! Turn in your\nused oil filter and receive a new one for FREE\, along with a recycling kit for used oil and filters\n(while supplies last). It’s our way of saying thank you for contributing to a greener and cleaner\ncommunity.
URL:https://www.scdcorp.org/event/recycling-is-rewarding-bell-filter-exchange-event/
LOCATION:7019 S. Atlantic Ave. Bell\, CA 90201\, 7019 S. Atlantic Ave\, Bell\, CA\, 90201\, United States
CATEGORIES:Community Event
END:VEVENT
BEGIN:VEVENT
DTSTART;TZID=America/Los_Angeles:20240618T180000
DTEND;TZID=America/Los_Angeles:20240618T200000
DTSTAMP:20260423T130122
CREATED:20240516T170515Z
LAST-MODIFIED:20240517T160236Z
UID:9753-1718733600-1718740800@www.scdcorp.org
SUMMARY:Bingo Night Fundraiser
DESCRIPTION:FOR AGES 12 AND OVER \nGet ready to shout “BINGO!” and win some amazing prizes at this fun-filled event. You will also be helping us fundraise for Summer Tech Camp 2024. \nTICKETS\nThe “Playing For a Good Cause” – $15\nAdmission for one. Includes 1 drink and 1 game board \nThe “I’m Here to Win!” – $100\nAdmission for one. Includes 1 drink\, 5 game boards\, and 5 raffle tickets \nEXTRAS\nExtra board – $5\nHotdog – $3\nSnacks & Drinks $1-$5 \nCLICK HERE TO RSVP NOW 
URL:https://www.scdcorp.org/event/bingo-night-fundraiser/
LOCATION:Newstart Event Center\, 3355 E Gage Ave\, Huntington Park\, CA\, 90255\, United States
CATEGORIES:Community Event
END:VEVENT
BEGIN:VEVENT
DTSTART;TZID=America/Los_Angeles:20240601T110000
DTEND;TZID=America/Los_Angeles:20240601T140000
DTSTAMP:20260423T130122
CREATED:20240522T221302Z
LAST-MODIFIED:20240522T221425Z
UID:9788-1717239600-1717250400@www.scdcorp.org
SUMMARY:SELA Send Off
DESCRIPTION:🎓 Sending off our incredible seniors with a bright future ahead! \nTo the Class of 2028\, your journey awaits! 🌟 \nDon’t forget to register and embark on your next adventure! \nRegister Now
URL:https://www.scdcorp.org/event/sela-send-off/
LOCATION:Bell Community Center\, 6250 Pine Ave\, Bell\, CA\, 90201\, United States
CATEGORIES:Community Event
ORGANIZER;CN="SCDC":MAILTO:info@scdcorp.org
END:VEVENT
BEGIN:VEVENT
DTSTART;TZID=America/Los_Angeles:20240524T100000
DTEND;TZID=America/Los_Angeles:20240524T113000
DTSTAMP:20260423T130122
CREATED:20240516T173637Z
LAST-MODIFIED:20240516T173916Z
UID:9770-1716544800-1716550200@www.scdcorp.org
SUMMARY:¡Seamos Seguros!–a “LA Transit” workshop
DESCRIPTION:Creative Impact “LA Transit” Workshop\n\n\n*note: this session will be conducted exclusively in Spanish \nDSTL Arts los invita a unirse a esta clase que se dará a cabo exclusivamente en español. \nSe puede cultivar una sensación de bienestar y seguridad dentro de nuestras comunidades mediante el auto-empoderamiento y el empoderamiento de los miembros de la comunidad. El aprender sobre las responsabilidades (las leyes básicas y reglas de tránsito\, y los derechos humanos) que conlleva el conducir de un vehículo\, viajar en autobús o tren\, andar en bicicleta\, o al caminar\, puede aumentar la seguridad del tránsito en las calles de Los Ángeles y sus alrededores. \n¡Seamos Seguros! Este taller tiene como objetivo el crear conciencia sobre las importantes responsabilidades de la calle que contribuyen a nuestra seguridad. \nEsta sesión será presentada por poeta/artista Dra. Rosie Ramos\, y con su dirección\, serán inspirados a escribir reflexiones poéticas sobre el potencial del tránsito público y la seguridad de nuestra comunidad. \n¡REGISTRENSE YA!
URL:https://www.scdcorp.org/event/seamos-seguros-05-24-2024/
LOCATION:Bell Tech Center\, 4357 Gage Avenue\, Bell\, CA\, 90201\, United States
CATEGORIES:Community Event
END:VEVENT
BEGIN:VEVENT
DTSTART;TZID=America/Los_Angeles:20240213T180000
DTEND;TZID=America/Los_Angeles:20240213T200000
DTSTAMP:20260423T130122
CREATED:20240123T200007Z
LAST-MODIFIED:20240123T200007Z
UID:9437-1707847200-1707854400@www.scdcorp.org
SUMMARY:Metro LB-ELA Corridor | Virtual Meeting 4
DESCRIPTION:Metro and Caltrans invite you to attend the virtual Community Meeting on Tuesday\, February 13\, from 6-8pm via Zoom. Learn more about the draft Long Beach to East Los Angeles Corridor Investment Plan and provide input on the recommended projects and funding strategies identified to improve mobility and safety for the communities between Long Beach and East Los Angeles. \nFor more information and to register online\, please visit linktr.ee/lbelacorridor. Unable to attend virtually\, the meeting will be streaming locally for your convenience at two locations: Southeast Rio Vista YMCA located at 4801 E. 58th St\, Maywood and Rancho Los Amigos National Rehabilitation Center “Auditorium” located at 7601 Imperial Hwy\, Downey.
URL:https://www.scdcorp.org/event/metro-lb-ela-corridor-virtual-meeting-4/
LOCATION:Online
CATEGORIES:Community Event
END:VEVENT
BEGIN:VEVENT
DTSTART;TZID=America/Los_Angeles:20240203T100000
DTEND;TZID=America/Los_Angeles:20240203T113000
DTSTAMP:20260423T130122
CREATED:20240123T195758Z
LAST-MODIFIED:20240123T201759Z
UID:9433-1706954400-1706959800@www.scdcorp.org
SUMMARY:Metro LB-ELA Corridor | Virtual Meeting 2
DESCRIPTION:Metro and Caltrans invite you to attend the virtual Community Meeting on Saturday\, February 3\, from 10-11:30am via Zoom. Learn more about the draft Long Beach to East Los Angeles Corridor Investment Plan and provide input on the recommended projects and funding strategies identified to improve mobility and safety for the communities between Long Beach and East Los Angeles. \nFor more information and to register online\, please visit linktr.ee/lbelacorridor. Unable to attend virtually\, the meeting will be streaming locally for your convenience at East Los Angeles College (South Gate Campus) located at 2340 Firestone Blvd.\, South Gate.
URL:https://www.scdcorp.org/event/metro-lb-ela-corridor-virtual-meeting-2/
LOCATION:Online
CATEGORIES:Community Event
END:VEVENT
BEGIN:VEVENT
DTSTART;TZID=America/Los_Angeles:20240201T180000
DTEND;TZID=America/Los_Angeles:20240201T200000
DTSTAMP:20260423T130122
CREATED:20240123T200839Z
LAST-MODIFIED:20240123T201827Z
UID:9439-1706810400-1706817600@www.scdcorp.org
SUMMARY:Metro LB-ELA Corridor | In-Person Community Meeting Commerce
DESCRIPTION:Metro and Caltrans invite you to attend our in-person Community Meeting on Thursday\, February 1\, from 6-8pm at Bristow Park Community Center in Commerce\, CA. Learn more about the draft Long Beach to East Los Angeles Corridor Investment Plan and provide input on the recommended projects and funding strategies identified to improve mobility and safety for the communities between Long Beach and East Los Angeles. \nFor more information and to register online\, please visit linktr.ee/lbelacorridor.
URL:https://www.scdcorp.org/event/metro-lb-ela-corridor-in-person-community-meeting-1/
LOCATION:Bristow Park Community Center\, 1466 S McDonnell Ave\, Commerce\, CA\, 90040\, United States
CATEGORIES:Community Event
END:VEVENT
BEGIN:VEVENT
DTSTART;TZID=America/Los_Angeles:20231027T170000
DTEND;TZID=America/Los_Angeles:20231027T200000
DTSTAMP:20260423T130122
CREATED:20230912T225956Z
LAST-MODIFIED:20231002T220627Z
UID:9029-1698426000-1698436800@www.scdcorp.org
SUMMARY:3rd Annual Trunk o Treat
DESCRIPTION:
URL:https://www.scdcorp.org/event/3rd-annual-trunk-o-treat/
LOCATION:Bell Tech Center\, 4357 Gage Avenue\, Bell\, CA\, 90201\, United States
CATEGORIES:Community Event
ORGANIZER;CN="SCDC":MAILTO:info@scdcorp.org
END:VEVENT
BEGIN:VEVENT
DTSTART;TZID=America/Los_Angeles:20231021T100000
DTEND;TZID=America/Los_Angeles:20231021T120000
DTSTAMP:20260423T130122
CREATED:20230912T233629Z
LAST-MODIFIED:20230912T235318Z
UID:9052-1697882400-1697889600@www.scdcorp.org
SUMMARY:Shirt Screenprinting Workshop
DESCRIPTION:
URL:https://www.scdcorp.org/event/shirt-screenprinting-workshop/
LOCATION:Bell Tech Center\, 4357 Gage Avenue\, Bell\, CA\, 90201\, United States
CATEGORIES:Community Event,Workshops
ORGANIZER;CN="SCDC":MAILTO:info@scdcorp.org
END:VEVENT
END:VCALENDAR