BEGIN:VCALENDAR
VERSION:2.0
PRODID:-//Southeast Community Development Corporation - ECPv6.15.20//NONSGML v1.0//EN
CALSCALE:GREGORIAN
METHOD:PUBLISH
X-ORIGINAL-URL:https://www.scdcorp.org
X-WR-CALDESC:Events for Southeast Community Development Corporation
REFRESH-INTERVAL;VALUE=DURATION:PT1H
X-Robots-Tag:noindex
X-PUBLISHED-TTL:PT1H
BEGIN:VTIMEZONE
TZID:America/Los_Angeles
BEGIN:DAYLIGHT
TZOFFSETFROM:-0800
TZOFFSETTO:-0700
TZNAME:PDT
DTSTART:20250309T100000
END:DAYLIGHT
BEGIN:STANDARD
TZOFFSETFROM:-0700
TZOFFSETTO:-0800
TZNAME:PST
DTSTART:20251102T090000
END:STANDARD
BEGIN:DAYLIGHT
TZOFFSETFROM:-0800
TZOFFSETTO:-0700
TZNAME:PDT
DTSTART:20260308T100000
END:DAYLIGHT
BEGIN:STANDARD
TZOFFSETFROM:-0700
TZOFFSETTO:-0800
TZNAME:PST
DTSTART:20261101T090000
END:STANDARD
BEGIN:DAYLIGHT
TZOFFSETFROM:-0800
TZOFFSETTO:-0700
TZNAME:PDT
DTSTART:20270314T100000
END:DAYLIGHT
BEGIN:STANDARD
TZOFFSETFROM:-0700
TZOFFSETTO:-0800
TZNAME:PST
DTSTART:20271107T090000
END:STANDARD
END:VTIMEZONE
BEGIN:VEVENT
DTSTART;VALUE=DATE:20260330
DTEND;VALUE=DATE:20260404
DTSTAMP:20260423T090339
CREATED:20260317T195422Z
LAST-MODIFIED:20260317T195511Z
UID:19994-1774828800-1775260799@www.scdcorp.org
SUMMARY:3D Game Builders Academy
DESCRIPTION:Welcome to the 3D Game Builders Academy! \nWe’re excited to offer a hands-on game design camp during LAUSD Spring Break\, designed specifically for students in grades 3rd–5th. These fun and educational sessions will introduce participants to 3D game design\, block-based coding\, and Virtual Reality using Delightex CoSpaces Edu! \nSession A (Monday & Wednesday) | March 30 & April 1 from 8:30 AM–1:30 PM \nSession B (Thursday & Friday) | April 2 – 3 from 8:30 AM–1:30 PM \nSpaces are limited\, so early enrollment is encouraged. \nSign Up Now
URL:https://www.scdcorp.org/event/3d-game-builders-academy/
LOCATION:Nickerson Gardens\, 1450 E 114th Street BLDG #5\, Los Angeles\, CA\, 90059\, United States
CATEGORIES:Community Event,Workshops
ORGANIZER;CN="SCDC":MAILTO:info@scdcorp.org
END:VEVENT
BEGIN:VEVENT
DTSTART;VALUE=DATE:20260403
DTEND;VALUE=DATE:20260404
DTSTAMP:20260423T090339
CREATED:20260402T175222Z
LAST-MODIFIED:20260402T175222Z
UID:20199-1775174400-1775260799@www.scdcorp.org
SUMMARY:Closed for the Day!
DESCRIPTION:We’re giving our team a well-earned day of rest on Friday\, April 3rd! \nWe’ll be back on Monday\, April 6th\, ready to keep doing the work we love. Wishing you a wonderful long weekend!  \n– SCDC Team
URL:https://www.scdcorp.org/event/closed-for-the-day-04-02-2026/
LOCATION:Bell Tech Center\, 4357 Gage Avenue\, Bell\, CA\, 90201\, United States
CATEGORIES:Community Update
ORGANIZER;CN="SCDC":MAILTO:info@scdcorp.org
END:VEVENT
END:VCALENDAR