BEGIN:VCALENDAR
VERSION:2.0
PRODID:-//Southeast Community Development Corporation - ECPv6.15.20//NONSGML v1.0//EN
CALSCALE:GREGORIAN
METHOD:PUBLISH
X-WR-CALNAME:Southeast Community Development Corporation
X-ORIGINAL-URL:https://www.scdcorp.org
X-WR-CALDESC:Events for Southeast Community Development Corporation
REFRESH-INTERVAL;VALUE=DURATION:PT1H
X-Robots-Tag:noindex
X-PUBLISHED-TTL:PT1H
BEGIN:VTIMEZONE
TZID:America/Los_Angeles
BEGIN:DAYLIGHT
TZOFFSETFROM:-0800
TZOFFSETTO:-0700
TZNAME:PDT
DTSTART:20250309T100000
END:DAYLIGHT
BEGIN:STANDARD
TZOFFSETFROM:-0700
TZOFFSETTO:-0800
TZNAME:PST
DTSTART:20251102T090000
END:STANDARD
BEGIN:DAYLIGHT
TZOFFSETFROM:-0800
TZOFFSETTO:-0700
TZNAME:PDT
DTSTART:20260308T100000
END:DAYLIGHT
BEGIN:STANDARD
TZOFFSETFROM:-0700
TZOFFSETTO:-0800
TZNAME:PST
DTSTART:20261101T090000
END:STANDARD
BEGIN:DAYLIGHT
TZOFFSETFROM:-0800
TZOFFSETTO:-0700
TZNAME:PDT
DTSTART:20270314T100000
END:DAYLIGHT
BEGIN:STANDARD
TZOFFSETFROM:-0700
TZOFFSETTO:-0800
TZNAME:PST
DTSTART:20271107T090000
END:STANDARD
END:VTIMEZONE
BEGIN:VEVENT
DTSTART;VALUE=DATE:20260310
DTEND;VALUE=DATE:20260401
DTSTAMP:20260423T102748
CREATED:20260316T223709Z
LAST-MODIFIED:20260316T223749Z
UID:19957-1773100800-1775001599@www.scdcorp.org
SUMMARY:Rail to River Community Survey
DESCRIPTION:Hey SELA Community\, \nTake LA Metro’s survey to share your feedback on Randolph street between the Metro A Line Slauson Station! \nDo you live and/or use the Slauson A Line Station? Let Metro know what YOU think! The Rail to River Active Transportation Corridor project would like to create a safer\, more convenient improvements for travelers to: \n\n‍walk\n‍️bike\nroll\n\nthrough Bell\, Huntington Park\, and Florence-Firestone communities. \nPlease take the survey here: \n\nEnglish: bit.ly/R2RSurveyEng\nSpanish: bit.ly/R2RSurveyEsp\n\nAnd visit metro.net/projects/r2rb/ to learn more about the project details. \n– SCDC Team
URL:https://www.scdcorp.org/event/rail-to-river-community-survey/
LOCATION:CA
CATEGORIES:Community Update
END:VEVENT
END:VCALENDAR