BEGIN:VCALENDAR
VERSION:2.0
PRODID:-//Southeast Community Development Corporation - ECPv6.15.20//NONSGML v1.0//EN
CALSCALE:GREGORIAN
METHOD:PUBLISH
X-ORIGINAL-URL:https://www.scdcorp.org
X-WR-CALDESC:Events for Southeast Community Development Corporation
REFRESH-INTERVAL;VALUE=DURATION:PT1H
X-Robots-Tag:noindex
X-PUBLISHED-TTL:PT1H
BEGIN:VTIMEZONE
TZID:America/Los_Angeles
BEGIN:DAYLIGHT
TZOFFSETFROM:-0800
TZOFFSETTO:-0700
TZNAME:PDT
DTSTART:20240310T100000
END:DAYLIGHT
BEGIN:STANDARD
TZOFFSETFROM:-0700
TZOFFSETTO:-0800
TZNAME:PST
DTSTART:20241103T090000
END:STANDARD
BEGIN:DAYLIGHT
TZOFFSETFROM:-0800
TZOFFSETTO:-0700
TZNAME:PDT
DTSTART:20250309T100000
END:DAYLIGHT
BEGIN:STANDARD
TZOFFSETFROM:-0700
TZOFFSETTO:-0800
TZNAME:PST
DTSTART:20251102T090000
END:STANDARD
BEGIN:DAYLIGHT
TZOFFSETFROM:-0800
TZOFFSETTO:-0700
TZNAME:PDT
DTSTART:20260308T100000
END:DAYLIGHT
BEGIN:STANDARD
TZOFFSETFROM:-0700
TZOFFSETTO:-0800
TZNAME:PST
DTSTART:20261101T090000
END:STANDARD
END:VTIMEZONE
BEGIN:VEVENT
DTSTART;TZID=America/Los_Angeles:20251121T110000
DTEND;TZID=America/Los_Angeles:20251121T113000
DTSTAMP:20260423T154248
CREATED:20251111T192651Z
LAST-MODIFIED:20251111T192651Z
UID:19725-1763722800-1763724600@www.scdcorp.org
SUMMARY:Bell Express Library - Smarty Pants Storytime
DESCRIPTION:Let’s get ready for school with a fun-filled session of books\, songs\, rhymes\, and movement activities designed to build early learning and school readiness skills. Children will explore stories\, music\, and play while developing language\, social\, and motor skills—all in a joyful\, engaging environment. \nWho: Children ages 2–5 with a parent or caregiver\nWhat: Storytime\, songs\, rhymes\, and school readiness fun\nWhy: To foster a love of learning and prepare for a great start to school \nJoin us for laughter\, learning\, and plenty of smiles! \nRSVP Now
URL:https://www.scdcorp.org/event/bell-express-library-smarty-pants-storytime-11-21-2025/
LOCATION:Bell Tech Center\, 4357 Gage Avenue\, Bell\, CA\, 90201\, United States
CATEGORIES:Community Event
END:VEVENT
BEGIN:VEVENT
DTSTART;TZID=America/Los_Angeles:20251121T150000
DTEND;TZID=America/Los_Angeles:20251121T180000
DTSTAMP:20260423T154248
CREATED:20251111T183100Z
LAST-MODIFIED:20251202T195733Z
UID:19719-1763737200-1763748000@www.scdcorp.org
SUMMARY:Pumpkin Clock - Electricity Workshop
DESCRIPTION:WAITLIST OPEN \nKids will discover the exciting world of electricity while creating their very own working pumpkin clock! This hands-on workshop combines basic science and creativity\, allowing children to build a clock using simple electrical components and take home a fun\, functional project. \nRSVP NOW!
URL:https://www.scdcorp.org/event/pumpkin-clock-electricity-workshop/
LOCATION:Bell Tech Center\, 4357 Gage Avenue\, Bell\, CA\, 90201\, United States
CATEGORIES:Workshops
ORGANIZER;CN="SCDC":MAILTO:info@scdcorp.org
END:VEVENT
END:VCALENDAR