BEGIN:VCALENDAR
VERSION:2.0
PRODID:-//Southeast Community Development Corporation - ECPv6.15.20//NONSGML v1.0//EN
CALSCALE:GREGORIAN
METHOD:PUBLISH
X-WR-CALNAME:Southeast Community Development Corporation
X-ORIGINAL-URL:https://www.scdcorp.org
X-WR-CALDESC:Events for Southeast Community Development Corporation
REFRESH-INTERVAL;VALUE=DURATION:PT1H
X-Robots-Tag:noindex
X-PUBLISHED-TTL:PT1H
BEGIN:VTIMEZONE
TZID:America/Los_Angeles
BEGIN:DAYLIGHT
TZOFFSETFROM:-0800
TZOFFSETTO:-0700
TZNAME:PDT
DTSTART:20240310T100000
END:DAYLIGHT
BEGIN:STANDARD
TZOFFSETFROM:-0700
TZOFFSETTO:-0800
TZNAME:PST
DTSTART:20241103T090000
END:STANDARD
BEGIN:DAYLIGHT
TZOFFSETFROM:-0800
TZOFFSETTO:-0700
TZNAME:PDT
DTSTART:20250309T100000
END:DAYLIGHT
BEGIN:STANDARD
TZOFFSETFROM:-0700
TZOFFSETTO:-0800
TZNAME:PST
DTSTART:20251102T090000
END:STANDARD
BEGIN:DAYLIGHT
TZOFFSETFROM:-0800
TZOFFSETTO:-0700
TZNAME:PDT
DTSTART:20260308T100000
END:DAYLIGHT
BEGIN:STANDARD
TZOFFSETFROM:-0700
TZOFFSETTO:-0800
TZNAME:PST
DTSTART:20261101T090000
END:STANDARD
END:VTIMEZONE
BEGIN:VEVENT
DTSTART;TZID=America/Los_Angeles:20251114T110000
DTEND;TZID=America/Los_Angeles:20251114T113000
DTSTAMP:20260423T154017
CREATED:20251111T192330Z
LAST-MODIFIED:20251111T192330Z
UID:19722-1763118000-1763119800@www.scdcorp.org
SUMMARY:Bell Express Library - Smart Pants Storytime
DESCRIPTION:Let’s get ready for school with a fun-filled session of books\, songs\, rhymes\, and movement activities designed to build early learning and school readiness skills. Children will explore stories\, music\, and play while developing language\, social\, and motor skills—all in a joyful\, engaging environment. \nWho: Children ages 2–5 with a parent or caregiver\nWhat: Storytime\, songs\, rhymes\, and school readiness fun\nWhy: To foster a love of learning and prepare for a great start to school \nJoin us for laughter\, learning\, and plenty of smiles! \nRSVP Now
URL:https://www.scdcorp.org/event/bell-express-library-smart-pants-storytime-11-14-2025/
LOCATION:Bell Tech Center\, 4357 Gage Avenue\, Bell\, CA\, 90201\, United States
CATEGORIES:Community Event
END:VEVENT
END:VCALENDAR