BEGIN:VCALENDAR
VERSION:2.0
PRODID:-//Southeast Community Development Corporation - ECPv6.15.20//NONSGML v1.0//EN
CALSCALE:GREGORIAN
METHOD:PUBLISH
X-WR-CALNAME:Southeast Community Development Corporation
X-ORIGINAL-URL:https://www.scdcorp.org
X-WR-CALDESC:Events for Southeast Community Development Corporation
REFRESH-INTERVAL;VALUE=DURATION:PT1H
X-Robots-Tag:noindex
X-PUBLISHED-TTL:PT1H
BEGIN:VTIMEZONE
TZID:America/Los_Angeles
BEGIN:DAYLIGHT
TZOFFSETFROM:-0800
TZOFFSETTO:-0700
TZNAME:PDT
DTSTART:20240310T100000
END:DAYLIGHT
BEGIN:STANDARD
TZOFFSETFROM:-0700
TZOFFSETTO:-0800
TZNAME:PST
DTSTART:20241103T090000
END:STANDARD
BEGIN:DAYLIGHT
TZOFFSETFROM:-0800
TZOFFSETTO:-0700
TZNAME:PDT
DTSTART:20250309T100000
END:DAYLIGHT
BEGIN:STANDARD
TZOFFSETFROM:-0700
TZOFFSETTO:-0800
TZNAME:PST
DTSTART:20251102T090000
END:STANDARD
BEGIN:DAYLIGHT
TZOFFSETFROM:-0800
TZOFFSETTO:-0700
TZNAME:PDT
DTSTART:20260308T100000
END:DAYLIGHT
BEGIN:STANDARD
TZOFFSETFROM:-0700
TZOFFSETTO:-0800
TZNAME:PST
DTSTART:20261101T090000
END:STANDARD
END:VTIMEZONE
BEGIN:VEVENT
DTSTART;TZID=America/Los_Angeles:20251029T160000
DTEND;TZID=America/Los_Angeles:20251029T170000
DTSTAMP:20260423T154014
CREATED:20251029T194432Z
LAST-MODIFIED:20251029T194510Z
UID:19693-1761753600-1761757200@www.scdcorp.org
SUMMARY:Lights On After-School Press Conference
DESCRIPTION:Join us on October 29\, 2025\, for the Lights On Afterschool Press Conference from 4:00-4:50 PM at NewStart Housing (3355 E Gage Ave\, Huntington Park\, CA 90255). \nWe’ll celebrate the impact of after-school programs on student success and community safety; with inspiring youth performances\, student speakers\, and remarks from local leaders. \nYour support shows decision-makers that after-school programs matter. We hope to see you there! \nPlease RSVP here: https://form.jotform.com/252946876008064
URL:https://www.scdcorp.org/event/2025-lights-on-after-school-press-conference/
LOCATION:Newstart Event Center\, 3355 E Gage Ave\, Huntington Park\, CA\, 90255\, United States
ORGANIZER;CN="SCDC":MAILTO:info@scdcorp.org
END:VEVENT
END:VCALENDAR