BEGIN:VCALENDAR
VERSION:2.0
PRODID:-//Southeast Community Development Corporation - ECPv6.15.20//NONSGML v1.0//EN
CALSCALE:GREGORIAN
METHOD:PUBLISH
X-ORIGINAL-URL:https://www.scdcorp.org
X-WR-CALDESC:Events for Southeast Community Development Corporation
REFRESH-INTERVAL;VALUE=DURATION:PT1H
X-Robots-Tag:noindex
X-PUBLISHED-TTL:PT1H
BEGIN:VTIMEZONE
TZID:America/Los_Angeles
BEGIN:DAYLIGHT
TZOFFSETFROM:-0800
TZOFFSETTO:-0700
TZNAME:PDT
DTSTART:20230312T100000
END:DAYLIGHT
BEGIN:STANDARD
TZOFFSETFROM:-0700
TZOFFSETTO:-0800
TZNAME:PST
DTSTART:20231105T090000
END:STANDARD
BEGIN:DAYLIGHT
TZOFFSETFROM:-0800
TZOFFSETTO:-0700
TZNAME:PDT
DTSTART:20240310T100000
END:DAYLIGHT
BEGIN:STANDARD
TZOFFSETFROM:-0700
TZOFFSETTO:-0800
TZNAME:PST
DTSTART:20241103T090000
END:STANDARD
BEGIN:DAYLIGHT
TZOFFSETFROM:-0800
TZOFFSETTO:-0700
TZNAME:PDT
DTSTART:20250309T100000
END:DAYLIGHT
BEGIN:STANDARD
TZOFFSETFROM:-0700
TZOFFSETTO:-0800
TZNAME:PST
DTSTART:20251102T090000
END:STANDARD
END:VTIMEZONE
BEGIN:VEVENT
DTSTART;TZID=America/Los_Angeles:20240909T093000
DTEND;TZID=America/Los_Angeles:20240909T113000
DTSTAMP:20260424T113021
CREATED:20240820T164411Z
LAST-MODIFIED:20240820T164411Z
UID:9899-1725874200-1725881400@www.scdcorp.org
SUMMARY:First Day: Adult Digital Literacy Class
DESCRIPTION:This course is designed for adults with little to no experience with computers. You will learn how to turn on a computer\, how to type\, perform basic web searches\, and learn about online security. Additionally\, you will learn how to load apps\, create web accounts\, check your bank balances\, and communicate on social media. We will be incorporating the use of your smartphone throughout the classes as well.\n\n————————————\n\nEste curso está diseñado para adultos con poca o ninguna experiencia con las computadoras. Aprenderá cómo encender una computadora\, cómo escribir\, realizar búsquedas básicas en la web y aprender sobre seguridad en línea. Además\, aprenderá a cargar aplicaciones\, crear cuentas web\, consultar sus saldos bancarios y comunicarse en las redes sociales. También incorporaremos el uso de su teléfono inteligente durante las clases.
URL:https://www.scdcorp.org/event/first-day-adult-digital-literacy-class/
LOCATION:Bell Tech Center\, 4357 Gage Avenue\, Bell\, CA\, 90201\, United States
ORGANIZER;CN="SCDC":MAILTO:info@scdcorp.org
END:VEVENT
END:VCALENDAR