BEGIN:VCALENDAR
VERSION:2.0
PRODID:-//Southeast Community Development Corporation - ECPv6.15.20//NONSGML v1.0//EN
CALSCALE:GREGORIAN
METHOD:PUBLISH
X-WR-CALNAME:Southeast Community Development Corporation
X-ORIGINAL-URL:https://www.scdcorp.org
X-WR-CALDESC:Events for Southeast Community Development Corporation
REFRESH-INTERVAL;VALUE=DURATION:PT1H
X-Robots-Tag:noindex
X-PUBLISHED-TTL:PT1H
BEGIN:VTIMEZONE
TZID:America/Los_Angeles
BEGIN:DAYLIGHT
TZOFFSETFROM:-0800
TZOFFSETTO:-0700
TZNAME:PDT
DTSTART:20230312T100000
END:DAYLIGHT
BEGIN:STANDARD
TZOFFSETFROM:-0700
TZOFFSETTO:-0800
TZNAME:PST
DTSTART:20231105T090000
END:STANDARD
BEGIN:DAYLIGHT
TZOFFSETFROM:-0800
TZOFFSETTO:-0700
TZNAME:PDT
DTSTART:20240310T100000
END:DAYLIGHT
BEGIN:STANDARD
TZOFFSETFROM:-0700
TZOFFSETTO:-0800
TZNAME:PST
DTSTART:20241103T090000
END:STANDARD
BEGIN:DAYLIGHT
TZOFFSETFROM:-0800
TZOFFSETTO:-0700
TZNAME:PDT
DTSTART:20250309T100000
END:DAYLIGHT
BEGIN:STANDARD
TZOFFSETFROM:-0700
TZOFFSETTO:-0800
TZNAME:PST
DTSTART:20251102T090000
END:STANDARD
END:VTIMEZONE
BEGIN:VEVENT
DTSTART;TZID=America/Los_Angeles:20240504T090000
DTEND;TZID=America/Los_Angeles:20240504T140000
DTSTAMP:20260424T171330
CREATED:20240419T183334Z
LAST-MODIFIED:20240820T232839Z
UID:9644-1714813200-1714831200@www.scdcorp.org
SUMMARY:Intro to Basic Electronics Workshop
DESCRIPTION:This session introduces kids to the fundamentals through hands-on activities\, including soldering components onto a circuit board. \nThey’ll even take home their very own fun project. \nSIGN UP NOW↗
URL:https://www.scdcorp.org/event/intro-to-basic-electronics-workshop-05-04-2024/
LOCATION:Bell Tech Center\, 4357 Gage Avenue\, Bell\, CA\, 90201\, United States
CATEGORIES:Workshops
ORGANIZER;CN="SCDC":MAILTO:info@scdcorp.org
END:VEVENT
BEGIN:VEVENT
DTSTART;TZID=America/Los_Angeles:20240504T093000
DTEND;TZID=America/Los_Angeles:20240504T143000
DTSTAMP:20260424T171330
CREATED:20240419T183421Z
LAST-MODIFIED:20240503T010855Z
UID:9646-1714815000-1714833000@www.scdcorp.org
SUMMARY:Cricut: Mugs Workshop
DESCRIPTION:WE ARE SOLD OUT!!!!!\nDo you want to make your own customized mug design? Ever wonder how it felt like to drink out of a mug you created? \nWell then\, this workshop is perfect for you. \nThis month’s Cricut™ workshop is MUG DESIGNS!!!!! This beginner friendly workshop is designed for newcomers to get accustomed to the Cricut Design Workspace and learn the inner workings of how to bring your creations into fruition. \nTo attend this workshop\, we are accepting donations of $10 to cover the costs of the materials. There is a max capacity of 15 individuals for this workshop. \nMay the 4th be with you. \n 
URL:https://www.scdcorp.org/event/cricut-mugs-workshop/
LOCATION:Bell Tech Center\, 4357 Gage Avenue\, Bell\, CA\, 90201\, United States
CATEGORIES:Workshops
ORGANIZER;CN="SCDC":MAILTO:info@scdcorp.org
END:VEVENT
END:VCALENDAR